BEGIN:VCALENDAR
VERSION:2.0
PRODID:-//Schwarzataler Online - ECPv6.4.0.1//NONSGML v1.0//EN
CALSCALE:GREGORIAN
METHOD:PUBLISH
X-WR-CALNAME:Schwarzataler Online
X-ORIGINAL-URL:https://www.schwarzataler-online.at
X-WR-CALDESC:Veranstaltungen für Schwarzataler Online
REFRESH-INTERVAL;VALUE=DURATION:PT1H
X-Robots-Tag:noindex
X-PUBLISHED-TTL:PT1H
BEGIN:VTIMEZONE
TZID:Europe/Vienna
BEGIN:DAYLIGHT
TZOFFSETFROM:+0100
TZOFFSETTO:+0200
TZNAME:CEST
DTSTART:20190331T010000
END:DAYLIGHT
BEGIN:STANDARD
TZOFFSETFROM:+0200
TZOFFSETTO:+0100
TZNAME:CET
DTSTART:20191027T010000
END:STANDARD
END:VTIMEZONE
BEGIN:VEVENT
DTSTART;VALUE=DATE:20190122
DTEND;VALUE=DATE:20190326
DTSTAMP:20260426T035712
CREATED:20190108T103546Z
LAST-MODIFIED:20190108T103546Z
UID:81932-1548115200-1553558399@www.schwarzataler-online.at
SUMMARY:Modefotografin Inge Prader stellt in der Fotogalerie Feuerbachl aus
DESCRIPTION:Inge Prader gilt als die führende Modefotografin Österreichs. Berühmt sind auch ihre Portraits von Isabella Rossellini\, Anna Netrepko\, Dennis Hopper oder Anthony Hopkins\, aber auch ihre großartigen Fotos vom Life-Ball. Die vielseiteige Topfotografin präsentiert unter dem Motto ‚Fashion and more‘ eine Auswahl  ihrer Werke vom 22. Jänner bis 25. März in der Galerie Feuerbachl in Neunkirchen. Vernissage wird am 22. Jänner gefeiert. Beginn: 19.30 Uhr.\n \n \n \nFoto: Prader
URL:https://www.schwarzataler-online.at/event/modefotografin-inge-prader-stellt-in-der-fotogalerie-feuerbachl-aus/
LOCATION:FOTOGALERIE  FEUERBACHL\, Schulg.5\, Neunkirchen\, 2620\, Österreich
CATEGORIES:Ausstellung,Events,Facebook-Autopost
ATTACH;FMTTYPE=image/jpeg:https://www.schwarzataler-online.at/wp-content/uploads/2019/01/Fashion_Inge-Prader.jpg
END:VEVENT
BEGIN:VEVENT
DTSTART;VALUE=DATE:20190124
DTEND;VALUE=DATE:20190131
DTSTAMP:20260426T035712
CREATED:20190110T142818Z
LAST-MODIFIED:20190110T142818Z
UID:81948-1548288000-1548892799@www.schwarzataler-online.at
SUMMARY:Vor 50 Jahren rockte Jimi Hendrix Wien aus dem Schlaf
DESCRIPTION:Heuer ist das Jahr der großen Rockjubiläen – Jimi Hendrix in Wien\, Woodstock in USA und und und. Am 22. Jänner 1969 begeisterte und schockierte Jimi Hendrix das Publikum und die ohnehin leicht echauffierbaren WienerInnen im altehrwürdigen Konzerthaus mit seinem exzessiven Gitarrenspiel. Rund um den 50. Jahrestag dieses epochalen Ereignisses tut sich in der Galerie Lumina in Wien einiges. Mit dabei ist als Zeitzeuge der Payerbacher Musiker und Puppenspieler Georg Albert. \n \nDie Galerei Lumina in der Lindengasse 65 in 1070 Wien präsentiert zum 50-Jahr-Jubiläum Fotos vom Auftritt der Jimi Hendrix Experience am 22. Jänner 1969 im Wiener Konzerthaus aus der Rudi Kronfuss Collection. Vernissage wird am 24. Jänner mit und Erinnerungen vom 22.Jänner 1969 gefeiert. Beginn: 19 Uhr. \nFr. 25. Jänner 2019\nKonzert mit Rudy Kronfuss und Mario Bottazzi. Beginn: 19:30 Uhr. \nMo. 28. Jänner 2019\nKonzert mit Sascha Ploner – Der als Bluesmusiker bekannte Sascha Ploner nähert sich passend zur Ausstellung Jimi Hendrix und den 60es und 70es. Der Blues kommt bei ihm nicht zu kurz. Beginn: 19:30 Uhr. \nMi. 30. Jänner 2019\nKonzert mit Georg Albert – Der Zeitzeuge Georg Albert spielt zeitgenössische Songs und Lieder um bzw. von Jimi Hendrix. Auch ist er ein legendarischer Puppenspieler von Wien (u.a. Kasperl im Wurstelprater) und vielleicht hilft Kasperl bei seinem Auftritt mit. Beginn: 19:30 Uhr. \n \nFoto: Rudi Kronfuss Collection/Flyer: Veranstalter
URL:https://www.schwarzataler-online.at/event/vor-50-jahren-rockte-jimi-hendrix-wien-aus-dem-schlaf/
LOCATION:Galerie Lumina\, Lindengasse 65\, Wien\, 1070\, Österreich
CATEGORIES:Ausstellung,Bühne,Events,Facebook-Autopost,Konzert
ATTACH;FMTTYPE=image/jpeg:https://www.schwarzataler-online.at/wp-content/uploads/2019/01/hendrix-ausstellung-W-20190124.jpg
END:VEVENT
BEGIN:VEVENT
DTSTART;TZID=Europe/Vienna:20190129T200000
DTEND;TZID=Europe/Vienna:20190129T200000
DTSTAMP:20260426T035712
CREATED:20181211T224247Z
LAST-MODIFIED:20181211T225203Z
UID:81524-1548792000-1548792000@www.schwarzataler-online.at
SUMMARY:Cory Henry kommt mit jazzigem Funkprojekt nach Wien
DESCRIPTION:Cory Henry ist waschechter New Yorker aus Brooklyn\, und bekannt als Mitglied des Snarky Puppy Kollektivs. Der Keyboarder kommt mit seinem Projekt The Revival gemeinsam mit Gitarrist und Grammy Gewinner Isaiah Sharkey sowie dem Funk Apostles Schlagzeuger Taron Lockett am 29. Jänner 2019 in die Grelle Forelle nach Wien. Beginn: 20 Uhr. \n \nAls zweifacher Grammy Award-gekrönter Keyboarder Cory Henry liegen seine musikalischen Wurzeln im Gospel\, Jazz und Soul. Sein Lieblingsinstrument ist eine Hammond B-3 Organ. Mittlerweile hat er einen einzigartigen funky Sound entwickelt der sich zwischen Jazz\, Gospel und Elektronik bewegt und alles mitnimmt was dazwischen liegt. \nCory Henry \nSo auch in seinem Projekt The Revival\, das er gemeinsam mit dem Gitarrist und Grammy Gewinner Isaiah Sharkey und dem Funk Apostles Schlagzeuger Taron Lockett auf die Bühne der Grellen Forelle in Wien bringt. Die BesucherInnenerwartet viel Dynamik und geniale Improvisationen. \nTiCKETS gibt es hier \nFoto: Veranstalter
URL:https://www.schwarzataler-online.at/event/cory-henry-kommt-mit-seinem-projekt-the-revival-in-die-grelle-forelle-wien/
LOCATION:Grelle Forelle\, Spittelauer Lände 12\, Wien\, 1090\, Österreich
CATEGORIES:Bühne,Events,Konzert
ATTACH;FMTTYPE=image/png:https://www.schwarzataler-online.at/wp-content/uploads/2018/12/corey-henry_veranstalter.png
END:VEVENT
END:VCALENDAR