BEGIN:VCALENDAR
VERSION:2.0
PRODID:-//Schwarzataler Online - ECPv6.4.0.1//NONSGML v1.0//EN
CALSCALE:GREGORIAN
METHOD:PUBLISH
X-ORIGINAL-URL:https://www.schwarzataler-online.at
X-WR-CALDESC:Veranstaltungen für Schwarzataler Online
REFRESH-INTERVAL;VALUE=DURATION:PT1H
X-Robots-Tag:noindex
X-PUBLISHED-TTL:PT1H
BEGIN:VTIMEZONE
TZID:Europe/Vienna
BEGIN:DAYLIGHT
TZOFFSETFROM:+0100
TZOFFSETTO:+0200
TZNAME:CEST
DTSTART:20190331T010000
END:DAYLIGHT
BEGIN:STANDARD
TZOFFSETFROM:+0200
TZOFFSETTO:+0100
TZNAME:CET
DTSTART:20191027T010000
END:STANDARD
END:VTIMEZONE
BEGIN:VEVENT
DTSTART;VALUE=DATE:20190122
DTEND;VALUE=DATE:20190326
DTSTAMP:20260426T035826
CREATED:20190108T103546Z
LAST-MODIFIED:20190108T103546Z
UID:81932-1548115200-1553558399@www.schwarzataler-online.at
SUMMARY:Modefotografin Inge Prader stellt in der Fotogalerie Feuerbachl aus
DESCRIPTION:Inge Prader gilt als die führende Modefotografin Österreichs. Berühmt sind auch ihre Portraits von Isabella Rossellini\, Anna Netrepko\, Dennis Hopper oder Anthony Hopkins\, aber auch ihre großartigen Fotos vom Life-Ball. Die vielseiteige Topfotografin präsentiert unter dem Motto ‚Fashion and more‘ eine Auswahl  ihrer Werke vom 22. Jänner bis 25. März in der Galerie Feuerbachl in Neunkirchen. Vernissage wird am 22. Jänner gefeiert. Beginn: 19.30 Uhr.\n \n \n \nFoto: Prader
URL:https://www.schwarzataler-online.at/event/modefotografin-inge-prader-stellt-in-der-fotogalerie-feuerbachl-aus/
LOCATION:FOTOGALERIE  FEUERBACHL\, Schulg.5\, Neunkirchen\, 2620\, Österreich
CATEGORIES:Ausstellung,Events,Facebook-Autopost
ATTACH;FMTTYPE=image/jpeg:https://www.schwarzataler-online.at/wp-content/uploads/2019/01/Fashion_Inge-Prader.jpg
END:VEVENT
BEGIN:VEVENT
DTSTART;TZID=Europe/Vienna:20190131T180000
DTEND;TZID=Europe/Vienna:20190131T210000
DTSTAMP:20260426T035826
CREATED:20190129T162204Z
LAST-MODIFIED:20190129T163034Z
UID:82209-1548957600-1548968400@www.schwarzataler-online.at
SUMMARY:Genießerclub serviert regionale Schmankerl im Raxalpenhof
DESCRIPTION:Scharfegger’s Genießerclub lädt am Donnerstag\, 31. Jänner zur dritten Auflage des Genießerclub-Events in den Raxalpenhof in der Prein (Gemeinde Reichenau). Produzenten aus der Region verwöhnen kulinarisch und Saxophonist Manfred Spies serviert musikalische Schmankerl. Beginn: 18 Uhr. \n \nMit dabei sind diesmal in Scharfegger´s Genießerclub: Sirupe und Kräutersalze von Anita Pusterhofer aus der Steiermark\, Fruchtaufstriche von Genuss-Schwester Pamela Strohmayer\, eine neue Raxbräu-Spezialität von Alexander Hauser und eine Auswahl aus dem Sortiment des harmony – Natur & Genuss- Ladens von Regina Gruber aus Neunkirchen. \nKöstliche Fruchtaufstriche gibt es bei Genuss-Schwester Pamela Strohmayer \nAußerdem werden Pastinakencremesuppe und Knöderlvariationen aus der Küche des Raxalpenhofes\, und Wein\, sowie Kostproben der hauseigenen Raxl-Produktlinie serviert. \nDie Teilnahme am Event ist auch ohne Genießerclub-Mitgliedschaft möglich. \nAnmeldungen unter: incoming@raxalpe.com oder telefonisch unter 02666-52295. \nFoto: Wilfried Scherzer-Schwarzataler
URL:https://www.schwarzataler-online.at/event/geniesserclub-serviert-regionale-schmankerl-im-raxalpenhof/
LOCATION:Raxalpenhof\, Preinrotte 9\, Reichenau an der Rax\, 2654\, Österreich
CATEGORIES:Bühne,Essen und Trinken,Events,Märkte
ATTACH;FMTTYPE=image/jpeg:https://www.schwarzataler-online.at/wp-content/uploads/2019/01/genießerrunde-raxalpenhof-16.jpg
END:VEVENT
BEGIN:VEVENT
DTSTART;TZID=Europe/Vienna:20190131T200000
DTEND;TZID=Europe/Vienna:20190131T200000
DTSTAMP:20260426T035826
CREATED:20190124T185959Z
LAST-MODIFIED:20190124T185959Z
UID:82143-1548964800-1548964800@www.schwarzataler-online.at
SUMMARY:Avatar\, The Mahones und Dylan Walshe live in der SimmCity
DESCRIPTION:“Bürger! Es ist ein weiterer großartiger Tag für Avatar Country und somit die ganze Welt”\, die gute Nachricht kommt von Avatar. Die schwedische Melodic Death Metal Band landet am 31. Jänner auf ihrer Headline-Tour in die SimmCity in Wien. Gemeinsam mit der kanadischen Celtic-Punk-Band The Mahones – mit der unglaublichen Katie ‘Kaboom’ McConnell an der Quetschn und am Mic – und  dem irischen Singer-Songwriter Dylan Walshe wird Avatar für einen lauten und entspannenden Abend sorgen. Beginn: 20 Uhr. \n \nAvatar \nTickets gibts bei Musikticket und Oeticket \nFoto: Avatar\, Mind Over Matter
URL:https://www.schwarzataler-online.at/event/avatar-the-mahones-und-dylan-walshe-live-in-der-simmcity/
LOCATION:SiMM City\, Simmeringer Hauptstraße 96a\, Wien\, 1110\, Österreich
CATEGORIES:Bühne,Events,Facebook-Autopost,Konzert
ATTACH;FMTTYPE=image/jpeg:https://www.schwarzataler-online.at/wp-content/uploads/2019/01/avatar_mind-over-matter.jpg
END:VEVENT
END:VCALENDAR