BEGIN:VCALENDAR
VERSION:2.0
PRODID:-//Schwarzataler Online - ECPv6.4.0.1//NONSGML v1.0//EN
CALSCALE:GREGORIAN
METHOD:PUBLISH
X-ORIGINAL-URL:https://www.schwarzataler-online.at
X-WR-CALDESC:Veranstaltungen für Schwarzataler Online
REFRESH-INTERVAL;VALUE=DURATION:PT1H
X-Robots-Tag:noindex
X-PUBLISHED-TTL:PT1H
BEGIN:VTIMEZONE
TZID:Europe/Vienna
BEGIN:DAYLIGHT
TZOFFSETFROM:+0100
TZOFFSETTO:+0200
TZNAME:CEST
DTSTART:20190331T010000
END:DAYLIGHT
BEGIN:STANDARD
TZOFFSETFROM:+0200
TZOFFSETTO:+0100
TZNAME:CET
DTSTART:20191027T010000
END:STANDARD
END:VTIMEZONE
BEGIN:VEVENT
DTSTART;VALUE=DATE:20190122
DTEND;VALUE=DATE:20190326
DTSTAMP:20260426T022010
CREATED:20190108T103546Z
LAST-MODIFIED:20190108T103546Z
UID:81932-1548115200-1553558399@www.schwarzataler-online.at
SUMMARY:Modefotografin Inge Prader stellt in der Fotogalerie Feuerbachl aus
DESCRIPTION:Inge Prader gilt als die führende Modefotografin Österreichs. Berühmt sind auch ihre Portraits von Isabella Rossellini\, Anna Netrepko\, Dennis Hopper oder Anthony Hopkins\, aber auch ihre großartigen Fotos vom Life-Ball. Die vielseiteige Topfotografin präsentiert unter dem Motto ‚Fashion and more‘ eine Auswahl  ihrer Werke vom 22. Jänner bis 25. März in der Galerie Feuerbachl in Neunkirchen. Vernissage wird am 22. Jänner gefeiert. Beginn: 19.30 Uhr.\n \n \n \nFoto: Prader
URL:https://www.schwarzataler-online.at/event/modefotografin-inge-prader-stellt-in-der-fotogalerie-feuerbachl-aus/
LOCATION:FOTOGALERIE  FEUERBACHL\, Schulg.5\, Neunkirchen\, 2620\, Österreich
CATEGORIES:Ausstellung,Events,Facebook-Autopost
ATTACH;FMTTYPE=image/jpeg:https://www.schwarzataler-online.at/wp-content/uploads/2019/01/Fashion_Inge-Prader.jpg
END:VEVENT
BEGIN:VEVENT
DTSTART;TZID=Europe/Vienna:20190209T200000
DTEND;TZID=Europe/Vienna:20190209T200000
DTSTAMP:20260426T022010
CREATED:20190126T145810Z
LAST-MODIFIED:20190126T145906Z
UID:82164-1549742400-1549742400@www.schwarzataler-online.at
SUMMARY:Ostwärts rocken live in Reni's Jukebox in Köttlach
DESCRIPTION:Am 9. Februar  gastiert die bekannte und beliebte Band „Ostwärts“ in Köttlach und spielt in „Reinis Jukebox“ im ehemaligen Köttlacherhof die grössten Erfolge von Dr. Kurt Ostbahn vom „57er-Chevy“ über „I hea di klopfn“ bis zur „Neichen Schoin“. Gute Unterhaltung ist garantiert. Eintritt frei! Beginn: 20 Uhr. \n \n \nInfos über die Band findest du unter www.ostwaerts.weebly.com   oder www.facebook.com/ostwaerts \nFoto: Veranstalter
URL:https://www.schwarzataler-online.at/event/ostwaerts-rocken-live-in-renis-jukebox-in-koettlach/
LOCATION:Reini’s Jukebox\, Triester Straße 4\, Enzenreith\, 2640\, Österreich
CATEGORIES:Bühne,Events,Konzert
ATTACH;FMTTYPE=image/jpeg:https://www.schwarzataler-online.at/wp-content/uploads/2019/01/Ostwärts_Plakat_Jukebox_09022019.jpg
END:VEVENT
BEGIN:VEVENT
DTSTART;TZID=Europe/Vienna:20190209T230000
DTEND;TZID=Europe/Vienna:20190209T230000
DTSTAMP:20260426T022010
CREATED:20190202T164910Z
LAST-MODIFIED:20190202T164936Z
UID:82243-1549753200-1549753200@www.schwarzataler-online.at
SUMMARY:Auf dem 'Trampelpfad' quer durch das SUB tanzen
DESCRIPTION:Die ‚Trampelpfad‘-Party mit Psydrosch\, Dezibel\, Secret Serum und Pendulux sorgt am 9. Februar für psychedelisch-progressives Flowfeeling im SUB in Wiener Neustadt. Entry only 18+. Beginn: 23 Uhr. \n \n \nTickets: AK €13 \nFoto: SUB
URL:https://www.schwarzataler-online.at/event/auf-dem-trampelpfad-quer-durch-das-sub-tanzen/
LOCATION:SUB\, Singergasse 6-8\, Wiener Neustadt\, 2700\, Österreich
CATEGORIES:Bühne,Events,Konzert
ATTACH;FMTTYPE=image/jpeg:https://www.schwarzataler-online.at/wp-content/uploads/2019/02/trampelpfad_SUB.jpg
END:VEVENT
END:VCALENDAR