BEGIN:VCALENDAR
VERSION:2.0
PRODID:-//Schwarzataler Online - ECPv6.4.0.1//NONSGML v1.0//EN
CALSCALE:GREGORIAN
METHOD:PUBLISH
X-ORIGINAL-URL:https://www.schwarzataler-online.at
X-WR-CALDESC:Veranstaltungen für Schwarzataler Online
REFRESH-INTERVAL;VALUE=DURATION:PT1H
X-Robots-Tag:noindex
X-PUBLISHED-TTL:PT1H
BEGIN:VTIMEZONE
TZID:Europe/Vienna
BEGIN:DAYLIGHT
TZOFFSETFROM:+0100
TZOFFSETTO:+0200
TZNAME:CEST
DTSTART:20190331T010000
END:DAYLIGHT
BEGIN:STANDARD
TZOFFSETFROM:+0200
TZOFFSETTO:+0100
TZNAME:CET
DTSTART:20191027T010000
END:STANDARD
END:VTIMEZONE
BEGIN:VEVENT
DTSTART;VALUE=DATE:20190122
DTEND;VALUE=DATE:20190326
DTSTAMP:20260426T035842
CREATED:20190108T103546Z
LAST-MODIFIED:20190108T103546Z
UID:81932-1548115200-1553558399@www.schwarzataler-online.at
SUMMARY:Modefotografin Inge Prader stellt in der Fotogalerie Feuerbachl aus
DESCRIPTION:Inge Prader gilt als die führende Modefotografin Österreichs. Berühmt sind auch ihre Portraits von Isabella Rossellini\, Anna Netrepko\, Dennis Hopper oder Anthony Hopkins\, aber auch ihre großartigen Fotos vom Life-Ball. Die vielseiteige Topfotografin präsentiert unter dem Motto ‚Fashion and more‘ eine Auswahl  ihrer Werke vom 22. Jänner bis 25. März in der Galerie Feuerbachl in Neunkirchen. Vernissage wird am 22. Jänner gefeiert. Beginn: 19.30 Uhr.\n \n \n \nFoto: Prader
URL:https://www.schwarzataler-online.at/event/modefotografin-inge-prader-stellt-in-der-fotogalerie-feuerbachl-aus/
LOCATION:FOTOGALERIE  FEUERBACHL\, Schulg.5\, Neunkirchen\, 2620\, Österreich
CATEGORIES:Ausstellung,Events,Facebook-Autopost
ATTACH;FMTTYPE=image/jpeg:https://www.schwarzataler-online.at/wp-content/uploads/2019/01/Fashion_Inge-Prader.jpg
END:VEVENT
BEGIN:VEVENT
DTSTART;TZID=Europe/Vienna:20190215T190000
DTEND;TZID=Europe/Vienna:20190215T190000
DTSTAMP:20260426T035842
CREATED:20190201T191543Z
LAST-MODIFIED:20190201T191628Z
UID:82233-1550257200-1550257200@www.schwarzataler-online.at
SUMMARY:The Shooting Stars mit American Folk-Rock und Wiener Dialekt im Literatursalon Wartholz
DESCRIPTION:Seit Jahren zählte der Auftritt der Shooting Stars in Literatursalon Wartholz in Reichenau zu den vorweihnachtlichen Fixsternen im Schwarzatal. Am 15. Februar bringen die Shooting Stars „Folk Rock meets Wiener Dialektmusik“ in den Literatursalon. Beginn: 19 Uhr. \n \nDiesmal gastieren René Harather und seine Band\, bestehend aus Harry Seebacher\, Stefan Guthauer und Valentin Bröderbauer\, erstmals im Spätwinter im Literatursalon am Fuß der Rax. „Das Motto ist mehr denn je Programm\, im ersten Teil stehen bekannte und weniger bekannte Klassiker des American Folk-Rock im Vordergrund\, vor allem Songs von Bob Dylan und seinen Vorbildern\, Epigonen oder Wegbegleitern\, wie Johnny Cash\, Neil Young oder Eric Clapton. Im zweiten Teil darf man sich wie schon bei früheren Auftritten auf musikalische Gäste – junge Singer-Songwriter und Musiker aus der Region – freuen“\, verspricht René Harather. \nDarüber hinaus hat René Harather vor eineinhalb Jahren begonnen\, Lieder von Kris Kristofferson\, Jimmy Webb oder Bob Dylan ins Wienerische zu übersetzen. – Ob „plugged“ oder „unplugged“ – ein abwechslungsreicher Abend ist mit diesem Programm garantiert! \nRené Harather bringt mit seiner Band Lieder von Bob Dylan\, Johnny Cash\, Eric Clapton\, Neil Young\, J. Webb & Co in den Literatursalon Wartholz\n \nTickets gibt es hier.  \n  \nFoto: Tschank \n.
URL:https://www.schwarzataler-online.at/event/the-shooting-stars-mit-american-folk-rock-und-wiener-dialekt-im-literatursalon-wartholz/
LOCATION:Literatursalon Wartholz\, Hauptstraße 113\, Reichenau an der Rax\, 2651\, Österreich
CATEGORIES:Bühne,Events,Konzert
ATTACH;FMTTYPE=image/jpeg:https://www.schwarzataler-online.at/wp-content/uploads/2019/02/rené-harather_tschank.jpg
END:VEVENT
BEGIN:VEVENT
DTSTART;TZID=Europe/Vienna:20190215T200000
DTEND;TZID=Europe/Vienna:20190215T200000
DTSTAMP:20260426T035842
CREATED:20190212T125610Z
LAST-MODIFIED:20190212T125702Z
UID:82327-1550260800-1550260800@www.schwarzataler-online.at
SUMMARY:The Doors Experience laden zur Zeitreise in die Szene Wien
DESCRIPTION:The Doors Experience sind Österreichs unumstrittenes Aushängeschild in Sachen Tribute Bands und werden international als beste Doors Tribute Band aller Zeiten gehandelt.Am 15. Februar bringen sie die größten Hits der Doors in die Szene Wien. Beginn: 20 Uhr. \n \nKonzerte mit Rocklegenden wie Ten Years After sind bei The Doors Experience keine Seltenheit\, und sogar der deutsch-französische TV-Kultursender arte drehte eine Konzertdoku über The Doors Experience. Die größten Doors-Hits wie Light My Fire\, Alabama Song\, Riders On The Storm\, Break On Through\, The End\, L.A. Woman\, Roadhouse Blues… stehen auf dem Programm. \n \nMehr über The Doors Experience erfährst du hier \nTickets bekommst du über öticket \nFoto © Wilfried Scherzer-Schwarzataler
URL:https://www.schwarzataler-online.at/event/the-doors-experience-laden-zur-zeitreise-in-die-szene-wien/
LOCATION:Szene Wien\, Hauffgasse 26\, Wien\, 1110\, Österreich
CATEGORIES:Bühne,Events,Konzert
ATTACH;FMTTYPE=image/jpeg:https://www.schwarzataler-online.at/wp-content/uploads/2019/02/doors-experience_12.jpg
END:VEVENT
BEGIN:VEVENT
DTSTART;VALUE=DATE:20190216
DTEND;VALUE=DATE:20190218
DTSTAMP:20260426T035842
CREATED:20181230T190709Z
LAST-MODIFIED:20181230T190813Z
UID:81848-1550275200-1550447999@www.schwarzataler-online.at
SUMMARY:Best of Musical - Kids for Kids im Kulturhaus Flatz
DESCRIPTION:„Best of Musical – Kids for Kids“ kommt am Samstag\, 16. Februar und Sonntag\, 17. Februar 2019 ins Kulturhaus Flatz (Gemeinde Ternitz). Die SchülerInnen der Kulturreif Musicalschool führen ein buntes\, abwechslungsreiches Musicalprogramm auf. Beginn: Samstag\, 14.00 Uhr und Sonntag\, 10.30 Uhr und 14.00 Uhr \n \nMit dabei sind die Mini Stars\, die Musical Minis\, die Musical KiGa und etliche Gesangssolisten aus dem Hause Kulturreif. Für die meisten Kids wird es das erste Mal sein\, mit Ton- und Lichttechnik auf einer Bühne zu stehen\, um den Zauber des Theaters zu erleben. \nSei dabei\, wenn das Kulturhaus Flatz in ein Theater verwandelt wird! \n \nTiCKETS: Erwachsene € 10 und Kinder von 3 bis 15 Jahre € 5 \nVorverkauf bei der Stadtgemeinde Ternitz \nFoto: Veranstalter
URL:https://www.schwarzataler-online.at/event/best-of-musical-kids-for-kids-im-kulturhaus-flatz/
LOCATION:Kulturhaus Flatz\, Gösinggasse 12\, Ternitz\, 2620\, Österreich
CATEGORIES:Bühne,Events
END:VEVENT
END:VCALENDAR