BEGIN:VCALENDAR
VERSION:2.0
PRODID:-//Schwarzataler Online - ECPv6.4.0.1//NONSGML v1.0//EN
CALSCALE:GREGORIAN
METHOD:PUBLISH
X-WR-CALNAME:Schwarzataler Online
X-ORIGINAL-URL:https://www.schwarzataler-online.at
X-WR-CALDESC:Veranstaltungen für Schwarzataler Online
REFRESH-INTERVAL;VALUE=DURATION:PT1H
X-Robots-Tag:noindex
X-PUBLISHED-TTL:PT1H
BEGIN:VTIMEZONE
TZID:Europe/Vienna
BEGIN:DAYLIGHT
TZOFFSETFROM:+0100
TZOFFSETTO:+0200
TZNAME:CEST
DTSTART:20190331T010000
END:DAYLIGHT
BEGIN:STANDARD
TZOFFSETFROM:+0200
TZOFFSETTO:+0100
TZNAME:CET
DTSTART:20191027T010000
END:STANDARD
END:VTIMEZONE
BEGIN:VEVENT
DTSTART;VALUE=DATE:20190122
DTEND;VALUE=DATE:20190326
DTSTAMP:20260426T035706
CREATED:20190108T103546Z
LAST-MODIFIED:20190108T103546Z
UID:81932-1548115200-1553558399@www.schwarzataler-online.at
SUMMARY:Modefotografin Inge Prader stellt in der Fotogalerie Feuerbachl aus
DESCRIPTION:Inge Prader gilt als die führende Modefotografin Österreichs. Berühmt sind auch ihre Portraits von Isabella Rossellini\, Anna Netrepko\, Dennis Hopper oder Anthony Hopkins\, aber auch ihre großartigen Fotos vom Life-Ball. Die vielseiteige Topfotografin präsentiert unter dem Motto ‚Fashion and more‘ eine Auswahl  ihrer Werke vom 22. Jänner bis 25. März in der Galerie Feuerbachl in Neunkirchen. Vernissage wird am 22. Jänner gefeiert. Beginn: 19.30 Uhr.\n \n \n \nFoto: Prader
URL:https://www.schwarzataler-online.at/event/modefotografin-inge-prader-stellt-in-der-fotogalerie-feuerbachl-aus/
LOCATION:FOTOGALERIE  FEUERBACHL\, Schulg.5\, Neunkirchen\, 2620\, Österreich
CATEGORIES:Ausstellung,Events,Facebook-Autopost
ATTACH;FMTTYPE=image/jpeg:https://www.schwarzataler-online.at/wp-content/uploads/2019/01/Fashion_Inge-Prader.jpg
END:VEVENT
BEGIN:VEVENT
DTSTART;TZID=Europe/Vienna:20190222T193000
DTEND;TZID=Europe/Vienna:20190222T193000
DTSTAMP:20260426T035706
CREATED:20190219T202204Z
LAST-MODIFIED:20190219T202204Z
UID:82685-1550863800-1550863800@www.schwarzataler-online.at
SUMMARY:'Familientreffen' mit Mike Supancic in Wimpassing
DESCRIPTION:Der obersteirische Kabarettist mit dem legendär furiosen Gitarrenspiel ist dem Wimpassinger Publikum längst ein Begriff.Am 22. Februar gastiert Mike Supancic mit seinem neuem Programm „Familientreffen“ im Kulturcentrum Wimpassing. Beginn: 19.30 Uhr \n \nVor vielen Jahren begeisterte Supancic erstmals bei der grandiosen Schwarzataler Kabarettroas. Nach 2016 gastiert der 51-Jährige\, der prinzipiell per Bahn durch die Lande reist\, mit seinem brandaktuellen Programm „Familientreffen“ wieder im Kulturcentrum. – Bezirkspremiere! \n \nTickets: Vv (inkl. Geb.): € 22/15* alle Ö-Ticket-Stellen\, z. B. Postpartner Wimpassing\, Sparkasse\, Raiba         *Schüler/Studenten \nFoto © Ludwig Rusch
URL:https://www.schwarzataler-online.at/event/familientreffen-mit-mike-supancic-in-wimpassing/
LOCATION:Kulturcentrum\, Bundesstraße 28\, Wimpassing\, 2632\, Österreich
CATEGORIES:Bühne,Events
ATTACH;FMTTYPE=image/jpeg:https://www.schwarzataler-online.at/wp-content/uploads/2019/02/Mike-Supancic.jpg
END:VEVENT
BEGIN:VEVENT
DTSTART;TZID=Europe/Vienna:20190222T200000
DTEND;TZID=Europe/Vienna:20190222T200000
DTSTAMP:20260426T035706
CREATED:20190220T182958Z
LAST-MODIFIED:20190220T182958Z
UID:82766-1550865600-1550865600@www.schwarzataler-online.at
SUMMARY:Vogelscheuchen\, Werwölfe und Dämonen im Kulturkeller
DESCRIPTION:Rund um die Geschichte „Da Wolf auf da Gstettn“ haben sich Songs entwickelt\, die Dr. Jürgen Gerstmayer aka Doc. G am 22. Februar im Ternitzer Kulturkeller präsentiert. Beginn: 20 Uhr.  \n \nAuch wenn man die Story nicht kennt\, lassen einen die Lieder\, die dem schier unerschöpflichen Country & Blues-Fundus entspringen\, genauer hinhören. Vogelscheuchen zum Beispiel verkünden Lebensweisheiten und Gesellschaftsanalysen\, während die Gstettn ihre eigene Geschichte erzählt\, und die handelt von kauzigen Menschen und Wölfen und Werwölfen. \n \nSpannungssteigernd kann da nur noch ein Dämon sein! Die bewährte Okkult-Task-Force um Max Silber kann sich keinesfalls ausruhen. Dämonen sind schlau\, allgegenwärtig und ungeheuer fies. Hört sich spannend an\, oder? Die Combo „Woif & Co“ fängt die Stimmung wunderbar ein. Unterstützt durch namhafte Special Guests passiert im Kulturkeller Ternitz der musikalische Exorzismus! \nTickets: Vorverkauf € 12 und Abendkasse € 15. AKNÖ-Mitglieder erhalten gegen Vorlage ihrer AK-Service-Karte 15% auf eine Eintrittskarte bei der Stadtgemeinde Ternitz-Vorverkauf bei der Stadtgemeinde Ternitz.  \nFoto: Joe Vigerl
URL:https://www.schwarzataler-online.at/event/vogelscheuchen-werwoelfe-und-daemonen-im-kulturkeller/
LOCATION:Kulturkeller\, Franz-Dinhobl-Straße 2\, Ternitz\, 2630\, Österreich
CATEGORIES:Bühne,Events,Konzert
ATTACH;FMTTYPE=image/jpeg:https://www.schwarzataler-online.at/wp-content/uploads/2019/02/pressefoto_vogelscheuche_by_joe_vigerl.jpg
END:VEVENT
END:VCALENDAR