BEGIN:VCALENDAR
VERSION:2.0
PRODID:-//Schwarzataler Online - ECPv6.4.0.1//NONSGML v1.0//EN
CALSCALE:GREGORIAN
METHOD:PUBLISH
X-WR-CALNAME:Schwarzataler Online
X-ORIGINAL-URL:https://www.schwarzataler-online.at
X-WR-CALDESC:Veranstaltungen für Schwarzataler Online
REFRESH-INTERVAL;VALUE=DURATION:PT1H
X-Robots-Tag:noindex
X-PUBLISHED-TTL:PT1H
BEGIN:VTIMEZONE
TZID:Europe/Vienna
BEGIN:DAYLIGHT
TZOFFSETFROM:+0100
TZOFFSETTO:+0200
TZNAME:CEST
DTSTART:20190331T010000
END:DAYLIGHT
BEGIN:STANDARD
TZOFFSETFROM:+0200
TZOFFSETTO:+0100
TZNAME:CET
DTSTART:20191027T010000
END:STANDARD
END:VTIMEZONE
BEGIN:VEVENT
DTSTART;VALUE=DATE:20190122
DTEND;VALUE=DATE:20190326
DTSTAMP:20260426T035703
CREATED:20190108T103546Z
LAST-MODIFIED:20190108T103546Z
UID:81932-1548115200-1553558399@www.schwarzataler-online.at
SUMMARY:Modefotografin Inge Prader stellt in der Fotogalerie Feuerbachl aus
DESCRIPTION:Inge Prader gilt als die führende Modefotografin Österreichs. Berühmt sind auch ihre Portraits von Isabella Rossellini\, Anna Netrepko\, Dennis Hopper oder Anthony Hopkins\, aber auch ihre großartigen Fotos vom Life-Ball. Die vielseiteige Topfotografin präsentiert unter dem Motto ‚Fashion and more‘ eine Auswahl  ihrer Werke vom 22. Jänner bis 25. März in der Galerie Feuerbachl in Neunkirchen. Vernissage wird am 22. Jänner gefeiert. Beginn: 19.30 Uhr.\n \n \n \nFoto: Prader
URL:https://www.schwarzataler-online.at/event/modefotografin-inge-prader-stellt-in-der-fotogalerie-feuerbachl-aus/
LOCATION:FOTOGALERIE  FEUERBACHL\, Schulg.5\, Neunkirchen\, 2620\, Österreich
CATEGORIES:Ausstellung,Events,Facebook-Autopost
ATTACH;FMTTYPE=image/jpeg:https://www.schwarzataler-online.at/wp-content/uploads/2019/01/Fashion_Inge-Prader.jpg
END:VEVENT
BEGIN:VEVENT
DTSTART;TZID=Europe/Vienna:20190223T203000
DTEND;TZID=Europe/Vienna:20190223T203000
DTSTAMP:20260426T035703
CREATED:20190218T173906Z
LAST-MODIFIED:20190218T173906Z
UID:82588-1550953800-1550953800@www.schwarzataler-online.at
SUMMARY:Die Irish Folkband Paddy’s Return spielt im 'Holländer' auf
DESCRIPTION:In einer der langen Sessionnächte im Peter’s Old Oak Pub in der Wiener Landstraße entstand die Idee die Irish Folkband Paddy’s Return zu gründen\, benannt nach einem irischen Jig und nach dem wohlschmeckenden Paddy’s Irish Whiskey. Am 23. Februar spielt das Quintett im ‚Holländer‘ in Neuberg an der Mürz auf. Slainté! Beginn: 20.30 Uhr. \n \nDie musikalische Ausrichtung ist irlandlastig\, wobei sich die Band auch schottische & südeuropäische Klänge erlaubt. Songs und Instrumentaltunes werden in einer ausgewogenen Mischung gespielt und gesungen. \nPaddy’s Return sind Gregor Lötsch (Gesang\, Gitarre)\, Günther Hackl (Fiddle\, Gesang)\, Thomas Blazek (Flöte\, Whistle)\, Xandi Tichy (Akkordeon\, Pipes) und Michael Strasser (Bodhrán\, Gesang) \nTickets und Info: Zum Holländer / Marx Bauernhaus. – 03857 80592 \nFoto: Paddy’s Return
URL:https://www.schwarzataler-online.at/event/die-irish-folkband-paddys-return-spielt-im-hollaender-auf/
LOCATION:Zum Holländer\, Neudörflstraße 17-19\, Neuberg an der Mürz\, 8692\, Österreich
CATEGORIES:Bühne,Events,Konzert
ATTACH;FMTTYPE=image/jpeg:https://www.schwarzataler-online.at/wp-content/uploads/2019/02/paddysreturn-pressefoto2-1.jpg
END:VEVENT
END:VCALENDAR