BEGIN:VCALENDAR
VERSION:2.0
PRODID:-//Schwarzataler Online - ECPv6.4.0.1//NONSGML v1.0//EN
CALSCALE:GREGORIAN
METHOD:PUBLISH
X-WR-CALNAME:Schwarzataler Online
X-ORIGINAL-URL:https://www.schwarzataler-online.at
X-WR-CALDESC:Veranstaltungen für Schwarzataler Online
REFRESH-INTERVAL;VALUE=DURATION:PT1H
X-Robots-Tag:noindex
X-PUBLISHED-TTL:PT1H
BEGIN:VTIMEZONE
TZID:Europe/Vienna
BEGIN:DAYLIGHT
TZOFFSETFROM:+0100
TZOFFSETTO:+0200
TZNAME:CEST
DTSTART:20190331T010000
END:DAYLIGHT
BEGIN:STANDARD
TZOFFSETFROM:+0200
TZOFFSETTO:+0100
TZNAME:CET
DTSTART:20191027T010000
END:STANDARD
END:VTIMEZONE
BEGIN:VEVENT
DTSTART;VALUE=DATE:20190122
DTEND;VALUE=DATE:20190326
DTSTAMP:20260425T215649
CREATED:20190108T103546Z
LAST-MODIFIED:20190108T103546Z
UID:81932-1548115200-1553558399@www.schwarzataler-online.at
SUMMARY:Modefotografin Inge Prader stellt in der Fotogalerie Feuerbachl aus
DESCRIPTION:Inge Prader gilt als die führende Modefotografin Österreichs. Berühmt sind auch ihre Portraits von Isabella Rossellini\, Anna Netrepko\, Dennis Hopper oder Anthony Hopkins\, aber auch ihre großartigen Fotos vom Life-Ball. Die vielseiteige Topfotografin präsentiert unter dem Motto ‚Fashion and more‘ eine Auswahl  ihrer Werke vom 22. Jänner bis 25. März in der Galerie Feuerbachl in Neunkirchen. Vernissage wird am 22. Jänner gefeiert. Beginn: 19.30 Uhr.\n \n \n \nFoto: Prader
URL:https://www.schwarzataler-online.at/event/modefotografin-inge-prader-stellt-in-der-fotogalerie-feuerbachl-aus/
LOCATION:FOTOGALERIE  FEUERBACHL\, Schulg.5\, Neunkirchen\, 2620\, Österreich
CATEGORIES:Ausstellung,Events,Facebook-Autopost
ATTACH;FMTTYPE=image/jpeg:https://www.schwarzataler-online.at/wp-content/uploads/2019/01/Fashion_Inge-Prader.jpg
END:VEVENT
BEGIN:VEVENT
DTSTART;VALUE=DATE:20190314
DTEND;VALUE=DATE:20190517
DTSTAMP:20260425T215649
CREATED:20190310T200555Z
LAST-MODIFIED:20190310T200555Z
UID:83590-1552521600-1558051199@www.schwarzataler-online.at
SUMMARY:JazzAmSTiergraben in Neunkirchen feiert mit feinen Konzerten
DESCRIPTION:Zehn Jahre JazzAmSTiergraben in Neunkirchen! Die Gäste im heurigen Jubiläumsjahr sind unter anderen der Sänger Michael Hoffmann (u.a. Starmania Finalist)\, der Hang Spieler und Percussionist Robin Gillard und zu guter Letzt die Musiker von jazzclub.unlimited\, die vor einem Jahrzehnt den bunten musikalischen Reigen am Stiergraben eröffneten. Programm unten und Flyer. Beginn: jeweils 19.30 Uhr. \n \n. \nInitiiert vom Neunkirchner Künstler Joe Pinkl und in Kooperation mit der Stadtgemeinde Neunkirchen gab es bisher 26 Konzerte mit interessanten und neuen Begegnungen von Musikern aus allen Ecken der populären Musik. \n. \n. \n. \n. \n  \nDer musikalische Bogen der Konzertreihe spannt sich im heuriger Jahr von Jazz und Blues über Soul\, Pop und Rock bis zu World Music. \n  \n Das Programm\n14.03. Michael Hoffmann Trio\nMichael Hoffmann . vocal\, piano\nMario Machacek – guitar\nJoe Pinkl – piano\, melodica\, tuba\nRainer Gärtner – percussion\nSoul\, Jazz\, Blues\, Pop \n11.04. HANG OVER\nRobin Gillard – hang\, percussion\nJoe Pinkl – piano\, trombone\, melodica\, percussion\nWorld music\, Jazz \n16.05. jazzclub.unlimited\nMartina Zwickl – vocal\nThomas Gaspar – Saxophon\nJoe Pinkl –piano\, trombone\nRainer Leutgeb – bass\nGerhard Leutgeb – drums\nJazz\, Swing\, Pop\, Soul \n \nTickets: €15 / €6 für Schüler bis 16 Jahren\nKarten sind in der Sparkasse Neunkirchen und an der Abendkasse erhältlich.\nWeitere Informationen findest du hier. \nFotos: Veranstalter
URL:https://www.schwarzataler-online.at/event/jazzamstiergraben-in-neunkirchen-feiert-mit-feinen-konzerten/
LOCATION:Kulturzentrum am Stiergraben\, Schulgasse 4\, Neunkirchen\, 2651\, Österreich
CATEGORIES:Bühne,Events,Festivals,Konzert
ATTACH;FMTTYPE=image/jpeg:https://www.schwarzataler-online.at/wp-content/uploads/2019/03/jast.jpg
END:VEVENT
BEGIN:VEVENT
DTSTART;TZID=Europe/Vienna:20190318T200000
DTEND;TZID=Europe/Vienna:20190318T200000
DTSTAMP:20260425T215649
CREATED:20190206T210912Z
LAST-MODIFIED:20190206T210912Z
UID:82284-1552939200-1552939200@www.schwarzataler-online.at
SUMMARY:Alf Poier feiert mit „Humor im Hemd“ im Wiener Orpheum Premiere
DESCRIPTION:Die Leute sagen oft „ich versteh´ die Welt nicht mehr!“ – Alf Poier geht es umgekehrt – die Welt versteht ihn nicht mehr. Spinn´ ich oder spinnt die Welt? Die Antworten auf diese und andere weltbewegende Fragen gibt der Meister höchstselbst bei der Premiere am 18. März Orpheum zu Wien und auf seiner Österreich-Tournee (Link zu allen Terminen findest du unten). Beginn: 20 Uhr. \n \nWas lässt sich angesichts der digitalen Diktatur und der Auslöschung des Hausverstandes bloß noch sagen? Kann die Kunst uns retten\, oder muss Alf Poier die Kunst retten? Wohin soll man flüchten? In die geistige Euthanasie\, in das Absurde\, zurück in die Tradition oder doch lieber in die Karibik? Und was hat eine Thunfischdose mit der letzten Erkenntnis zu tun? Am Ende der Show weiß man vielleicht mehr – oder noch besser – vielleicht gar nix mehr. \n \nAlle „Humor im Hemd“ Termine und Ticketverkaufsstellen\nFoto: Reinhard Mayr
URL:https://www.schwarzataler-online.at/event/alf-poier-feiert-mit-humor-im-hemd-im-wiener-orpheum-premiere/
LOCATION:Orpheum Wien\, Steigenteschgasse 94 b\, Wien\, 1220\, Österreich
CATEGORIES:Bühne,Events,Facebook-Autopost
ATTACH;FMTTYPE=image/jpeg:https://www.schwarzataler-online.at/wp-content/uploads/2019/02/Humor_im_Hemd_by-Reinhard_Mayr_klein-1.jpg
END:VEVENT
END:VCALENDAR