BEGIN:VCALENDAR
VERSION:2.0
PRODID:-//Schwarzataler Online - ECPv6.4.0.1//NONSGML v1.0//EN
CALSCALE:GREGORIAN
METHOD:PUBLISH
X-WR-CALNAME:Schwarzataler Online
X-ORIGINAL-URL:https://www.schwarzataler-online.at
X-WR-CALDESC:Veranstaltungen für Schwarzataler Online
REFRESH-INTERVAL;VALUE=DURATION:PT1H
X-Robots-Tag:noindex
X-PUBLISHED-TTL:PT1H
BEGIN:VTIMEZONE
TZID:Europe/Vienna
BEGIN:DAYLIGHT
TZOFFSETFROM:+0100
TZOFFSETTO:+0200
TZNAME:CEST
DTSTART:20190331T010000
END:DAYLIGHT
BEGIN:STANDARD
TZOFFSETFROM:+0200
TZOFFSETTO:+0100
TZNAME:CET
DTSTART:20191027T010000
END:STANDARD
END:VTIMEZONE
BEGIN:VEVENT
DTSTART;VALUE=DATE:20190427
DTEND;VALUE=DATE:20190617
DTSTAMP:20260425T161329
CREATED:20190426T204513Z
LAST-MODIFIED:20190426T204513Z
UID:84382-1556323200-1560729599@www.schwarzataler-online.at
SUMMARY:Andrea Schnell und Valentin Oman | Galerie Gut Gasteil | Prigglitz
DESCRIPTION:Am Samstag\, 27. April\, startet in der Galerie Gut Gasteil in Prigglitz die Saison mit  einer Ausstellung von Werken von Andrea Schnell und Valentin Oman. Die Künstler sind anwesend. Die Laudatio hält der Kunsthistoriker und Kulturwissenschaftler Hartwig Knack. Beginn: 18 Uhr  \n \n\nAndrea Schnell\, Malerei und Graphik\nMit markantem Strich und groben Pinselstrichen\, Kollagen und als Monographie zeichnet Andrea Schnell meist weibliche Wesen aus den Zwischenwelten. Eine wie hingeworfene Linie\, ein Klecks\, ein gestricheltes Kraftfeld – intuitiv beginnen die Figuren Gestalt anzunehmen und festigen dann im weiteren Prozess ihre Form.\n \n\n\nValentin Oman\, Spuren und Strukturen\nValentin Oman schätzt die Spuren der Vergangenheit – er nimmt sie auf oder schafft sie neu. Damit gibt er ihnen einen zusätzlichen Stellenwert\, einen Wert der zeitlosen Gültigkeit und der Ästhetik. Es sind die Spuren des Menschen und seiner endlosen Leidensgeschichte und die Strukturen der Natur auf deren Fährte sich der 1935 in St. Stefan bei Villach geborene Maler und Graphiker begibt und denen er in seiner Kunst eine neue Form gibt.\n \n\n\nBiobuffet\nParallel zum Kunstangebot bietet das kulinarische Programm im Biobuffet kleine Speisen\, vorwiegend von regionalen Betrieben\, Biokaffee und Kuchen. Als kontrollierter Biobauernhof bietet das Gut Gasteil auch Lammfleisch von ungemästeten Juraschafen\, Felle\, Wolle\, Fruchtsäfte\, Edelbrände\, Obst und Nüsse.\nModel Sarah mit Charlotte Seidl beim Spaziergang durch Kunst in der Landschaft \n \n\nKunst in der Landschaft XII: „verbunden“\nAb sofort laden neue Exponate zum Entdeckung in der Galerie und zur frei spazierenden Erkundung der Landschaftskunst unter dem Motto ‚verbunden‘ ein.\nFoto: Wilfried Scherzer-Schwarzataler
URL:https://www.schwarzataler-online.at/event/andrea-schnell-valentin-oman-gut-gasteil-prigglitz/
LOCATION:Galerie Gut Gasteil\, Gasteil 1\, Prigglitz\, 2640\, Österreich
CATEGORIES:Ausstellung,Essen und Trinken,Events,Heuriger
ATTACH;FMTTYPE=image/jpeg:https://www.schwarzataler-online.at/wp-content/uploads/2019/04/SARAH-SCHERZER-GASTEIL-180423-526.jpg
END:VEVENT
BEGIN:VEVENT
DTSTART;TZID=Europe/Vienna:20190601T180000
DTEND;TZID=Europe/Vienna:20190601T180000
DTSTAMP:20260425T161329
CREATED:20190509T191222Z
LAST-MODIFIED:20190509T191222Z
UID:84490-1559412000-1559412000@www.schwarzataler-online.at
SUMMARY:Stark!Strom!Fest | Nice Guys | Wien - Eintritt frei!
DESCRIPTION:Das „neue österreichische Rock & Metal Magazin“ Stark!Strom lädt am 1. Juni seine Leser und Freunde zum Stark!Strom!Fest\, das nach der erfolgreichen und stimmigen Vorjahres-Premiere\, im und vorm „The Nice Guys“ in Neu Marx in Wien 3 über die Bühne gehen wird. Rock´n´Roll und Fußball\, Bier und Grillspezialitäten\, zwei fantastische Live-Bands und das Ganze auch noch in wunderbarer Atmosphäre bei freiem Eintritt. Beginn: 18 Uhr. \n \nUnter freiem Himmel sorgen ab 19 Uhr gleich zwei Live-Acts für Stimmung: Zunächst setzt die Kutscher´s Blues Band mit ihrer Melange aus 196er-70er-Sounds und modernen Einflüssen der Marke Mando Dia und Co die Besucher unter Strom\, hervorgehoben sei dabei auch das\, durch Jimi Hendrix und Randy Rhoads inspirierte\, Gitarrenspiel von Namensgeber Stephan Kutscher. \n Danach präsentieren die Ladies & Gentlemen von Ecliptica ihren einzigartigen „Metal´n´Roll“\, für den sie bereit beim Wacken Open Air und als Support von In Extremo bejubelt wurden – und mit dem die international renommierte Band auch unter der Erdberger Abendsonne begeistern wird. \n \nIm Anschluss kommen um 21 Uhr alle Freunde des runden Leders bei der Übertragung des Champions Leaque Finales auf ihre Kosten am Soccer Floor\, während der Rocker Floor von DJ Strom!Schlag (alias Chefredakteur Mike) bespielt wird. \nFürs kulinarische Wohl sorgt die Stark!Strom!Grillstation mit Köstlichkeiten für jeden Geschmack und auch die „Nice Guys“ hinter der Bar locken mit jeder Menge Spezialitäten… \nIn diesem Sinne: Strom an! \nDie Stark!Strom!-Aprilausgabe \nGrafik: Veranstalter
URL:https://www.schwarzataler-online.at/event/starkstromfest-nice-guys-wien-eintritt-frei/
LOCATION:The Nice Gauys\, Karl Farkas Gasse 18\, Wien\, 1030\, Österreich
CATEGORIES:Bühne,Essen und Trinken,Events,Konzert
ATTACH;FMTTYPE=image/jpeg:https://www.schwarzataler-online.at/wp-content/uploads/2019/05/StarkStrom_Fest2019_Flyer.jpg
END:VEVENT
BEGIN:VEVENT
DTSTART;TZID=Europe/Vienna:20190601T193000
DTEND;TZID=Europe/Vienna:20190601T193000
DTSTAMP:20260425T161329
CREATED:20190428T202807Z
LAST-MODIFIED:20190530T192340Z
UID:84408-1559417400-1559417400@www.schwarzataler-online.at
SUMMARY:Frau Franzi 'a haydn-oawad' | Bergbaumuseum | Grünbach
DESCRIPTION:Pünktlich 210 Jahre nach dem Tod von Joseph Haydn wirbelt die unvergleichliche „frau franzi“ am 1. Juni die Musikgeschichte im Bergbaumuseum in Grünbach auf. Beginn: 19.30 Uhr. \n \n„a haydn-oawad“ ist eine vergnügliche Geschichte über Joseph Haydn\, die Mizzi und den Erdäpfelkas \nMusikwissenschaftlerInnen und HistorikerInnen sind entsetzt! Bisher ging man davon aus\, Joseph Haydn\, sein Werk\, seine Zeit seien weitgehend erforscht. Doch jetzt taucht ein letzter Puzzelstein auf\, ein letztes Geheimnis der großartigen Erfolgsstory des Joseph Haydn. \nWer war Mizzi? Muse des großen Österreichischen Komponisten? Verheimlicht? Vergessen? Verkannt? \nWie immer fetzt frau franzi frech im Alleingang durch Zeit und Raum\, erzählt und spielt alle Rollen\, zur Not\, oder eigentlich zur besseren Illustration nimmt sie Fetzen und Mopp zu Hilfe. In ihrer unvergleichlich\, komödiantische Manier verbindet sie Geschichte mit Gschichtln. Versorgt uns mit Leckerbissen der Haydnbiografie und an den Haaren herbeigezogener Verbindungen in ihren persönlichen Mikrokosmos\, sinniert über Wiener Küche und 4-sätzige Sinfonien. Und kommt zu dem Schluss: komponieren ist komponieren\, wurscht\, ob mit Lebensmitteln oder Noten. \nText & Spiel: Marika Reichhold | Regie 2019: Christian Suchy \nMarika Reichhold ist ‚frau franzi‘ \nWeitere Termine\n31.5.2019 (19.30 Uhr) / KULTURSZENE (2542 Kottingbrunn\, Schloß 1) \n1.6.2019 (19.30 Uhr) BERGBAUMUSEUM (2733 Grünbach\, Am Neuschacht 12) \n27. 6. 2019 (19.30 Uhr) PFARRKELLER KAHLENBERGERDORF 1190 Wien\, Heiligenstädterstraße 345 \n Und am 2. Juni führt „frau franzi“ kabarettistisch durch das Grünbacher Bergbaumuseum (Reservierung unter 0676-435 4600). Beginn: 15 Uhr. \nFoto: Astrid Reichhold
URL:https://www.schwarzataler-online.at/event/frau-franzi-a-haydn-oawad-bergbaumuseum-gruenbach/
LOCATION:Bergbaumuseum Grünbach\, Neuschacht 12\, Grünbach\, 2733\, Österreich
CATEGORIES:Bühne,Events,Kabarett
ATTACH;FMTTYPE=image/jpeg:https://www.schwarzataler-online.at/wp-content/uploads/2019/04/franzi2_astrid-reichhold.jpg
END:VEVENT
END:VCALENDAR