BEGIN:VCALENDAR
VERSION:2.0
PRODID:-//Schwarzataler Online - ECPv6.4.0.1//NONSGML v1.0//EN
CALSCALE:GREGORIAN
METHOD:PUBLISH
X-WR-CALNAME:Schwarzataler Online
X-ORIGINAL-URL:https://www.schwarzataler-online.at
X-WR-CALDESC:Veranstaltungen für Schwarzataler Online
REFRESH-INTERVAL;VALUE=DURATION:PT1H
X-Robots-Tag:noindex
X-PUBLISHED-TTL:PT1H
BEGIN:VTIMEZONE
TZID:Europe/Vienna
BEGIN:DAYLIGHT
TZOFFSETFROM:+0100
TZOFFSETTO:+0200
TZNAME:CEST
DTSTART:20190331T010000
END:DAYLIGHT
BEGIN:STANDARD
TZOFFSETFROM:+0200
TZOFFSETTO:+0100
TZNAME:CET
DTSTART:20191027T010000
END:STANDARD
END:VTIMEZONE
BEGIN:VEVENT
DTSTART;VALUE=DATE:20190620
DTEND;VALUE=DATE:20190819
DTSTAMP:20260425T144519
CREATED:20190619T174605Z
LAST-MODIFIED:20190619T174605Z
UID:84748-1560988800-1566172799@www.schwarzataler-online.at
SUMMARY:Christian Ludwig Attersee und Sabine Müller-Funk | Galerie Gut Gasteil | Prigglitz
DESCRIPTION:Am Donnerstag\, 20. Juni – Fronleichnam\, wird die zweite Saisonausstellung in der Galerie Gut Gasteil in Prigglitz mit Werken von Christian Ludwig Attersee und Sabine Müller-Funk eröffnet. Die Werke hängen bis 18. August. Vernissage wird am 20. Juni gefgeiert. Beginn: 18 Uhr. \n \nMit der Sommerausstellung in der Galerie am Gut Gasteil laden Charlotte und Johannes Seidl zur Gegenüberstellung unterschiedlicher poetischer Sichtweisen: Der vielseitig künstlerisch aktive Christian Ludwig Attersee lässt in seine phantasievoll-bunte „Attersee-Welt“ eintauchen und die Objekt-Konzept-Künstlerin Sabine Müller-Funk erschließt mit Schrift-Bild-Objekten neue Räume und Bedeutungsebenen. \nChristian Ludwig Attersee: Wasserfrühling aus der Serie Bilder 2014–2019 \nSabine Müller Funk: Die Fragilität des Lebens \nDie Ausstellung in der Galerie Gut Gasteil ist von 20. Juni bis 18. August\, Sa.\, So. und Feiertag 10–18 Uhr geöffnet. \nFotos: Künstler und Veranstalter
URL:https://www.schwarzataler-online.at/event/christian-ludwig-attersee-und-sabine-mueller-funk-galerie-gut-gasteil-prigglitz/
LOCATION:Galerie Gut Gasteil\, Gasteil 1\, Prigglitz\, 2640\, Österreich
CATEGORIES:Ausstellung,Essen und Trinken,Events
ATTACH;FMTTYPE=image/png:https://www.schwarzataler-online.at/wp-content/uploads/2019/06/attersee.png
END:VEVENT
END:VCALENDAR