BEGIN:VCALENDAR
VERSION:2.0
PRODID:-//Schwarzataler Online - ECPv6.4.0.1//NONSGML v1.0//EN
CALSCALE:GREGORIAN
METHOD:PUBLISH
X-WR-CALNAME:Schwarzataler Online
X-ORIGINAL-URL:https://www.schwarzataler-online.at
X-WR-CALDESC:Veranstaltungen für Schwarzataler Online
REFRESH-INTERVAL;VALUE=DURATION:PT1H
X-Robots-Tag:noindex
X-PUBLISHED-TTL:PT1H
BEGIN:VTIMEZONE
TZID:Europe/Vienna
BEGIN:DAYLIGHT
TZOFFSETFROM:+0100
TZOFFSETTO:+0200
TZNAME:CEST
DTSTART:20190331T010000
END:DAYLIGHT
BEGIN:STANDARD
TZOFFSETFROM:+0200
TZOFFSETTO:+0100
TZNAME:CET
DTSTART:20191027T010000
END:STANDARD
END:VTIMEZONE
BEGIN:VEVENT
DTSTART;VALUE=DATE:20190620
DTEND;VALUE=DATE:20190819
DTSTAMP:20260425T144515
CREATED:20190619T174605Z
LAST-MODIFIED:20190619T174605Z
UID:84748-1560988800-1566172799@www.schwarzataler-online.at
SUMMARY:Christian Ludwig Attersee und Sabine Müller-Funk | Galerie Gut Gasteil | Prigglitz
DESCRIPTION:Am Donnerstag\, 20. Juni – Fronleichnam\, wird die zweite Saisonausstellung in der Galerie Gut Gasteil in Prigglitz mit Werken von Christian Ludwig Attersee und Sabine Müller-Funk eröffnet. Die Werke hängen bis 18. August. Vernissage wird am 20. Juni gefgeiert. Beginn: 18 Uhr. \n \nMit der Sommerausstellung in der Galerie am Gut Gasteil laden Charlotte und Johannes Seidl zur Gegenüberstellung unterschiedlicher poetischer Sichtweisen: Der vielseitig künstlerisch aktive Christian Ludwig Attersee lässt in seine phantasievoll-bunte „Attersee-Welt“ eintauchen und die Objekt-Konzept-Künstlerin Sabine Müller-Funk erschließt mit Schrift-Bild-Objekten neue Räume und Bedeutungsebenen. \nChristian Ludwig Attersee: Wasserfrühling aus der Serie Bilder 2014–2019 \nSabine Müller Funk: Die Fragilität des Lebens \nDie Ausstellung in der Galerie Gut Gasteil ist von 20. Juni bis 18. August\, Sa.\, So. und Feiertag 10–18 Uhr geöffnet. \nFotos: Künstler und Veranstalter
URL:https://www.schwarzataler-online.at/event/christian-ludwig-attersee-und-sabine-mueller-funk-galerie-gut-gasteil-prigglitz/
LOCATION:Galerie Gut Gasteil\, Gasteil 1\, Prigglitz\, 2640\, Österreich
CATEGORIES:Ausstellung,Essen und Trinken,Events
ATTACH;FMTTYPE=image/png:https://www.schwarzataler-online.at/wp-content/uploads/2019/06/attersee.png
END:VEVENT
BEGIN:VEVENT
DTSTART;VALUE=DATE:20190718
DTEND;VALUE=DATE:20190722
DTSTAMP:20260425T144515
CREATED:20190714T183412Z
LAST-MODIFIED:20190714T183925Z
UID:85811-1563408000-1563753599@www.schwarzataler-online.at
SUMMARY:Folkfestival | Wackelstein Festival | Amaliendorf
DESCRIPTION:Madeleine Kufner und Paul Dangl hatten vor Jahren die Idee\, ein eigenes Festival zu veranstalten. Madeleine Kufner\, Andreas Neumeister und Rainer Kaltenbaek sind heute die kreativen Köpfe der Organisation des Wackelstein Festivals\, das vom 19. bis 21. Juli (warming up am 18.) zum 13. Mal beim Wackelstein von Amaliendorf mit einem Dutzend feiner Folk- und Folkrockbands\, einem märchenhaftem Programm für Kinder und interessanten Workshops steigt. Wo Amaliendorf liegt? Unten findest du den Link. \n \n„Von Beginn weg hatten wir vor\, dass das Festival etwas Idealistisches sein soll – es geht nicht um Geld oder Berühmtheit\, sondern einfach darum\, eine gute Zeit zu haben mit hervorragender Musik\, die österreichische Musikszene zu fördern\, und allen zu zeigen\, wie viel man erreichen kann mit ein klein wenig Energie und einer großen Portion Idealismus“\, schildert Organisator Rainer Kaltenbaek. \n \nDas Line-up für das 13. Wackelsteinfestival (mit Links zu den Bands)\n \n\n\n\n\n \nDonnerstag\, 18. Juli 2019 – Warming Up\n\n\n\n20:00 – 21:30\nTabasker\n\n\n\nFreitag\, 19. Juli 2019\n\n\n\n18:30 – 20:00\nDobré Ráno Blues Band (CZ)\n\n\n20:45 – 22:15\nOs d´Abaixo (ESP)\n\n\n23:00 – 00:30\nImpala Ray (DE)\n\n\n\nSamstag\, 20. Juli 2019\n\n\n\n13:00 – 15:45\nOpen Stage\n\n\n16:45 – 18:15\nPoitín (CZ)\n\n\n19:00 – 20:30\nBlinded by Stardust (AT)\n\n\n21:15 – 22:45\nMotion Trio (PL)\n\n\n23:30 – 01:00\nAirtist (AT)\n\n\n\nSonntag\, 21. Juli 2019\n\n\n\n11:00 – 12:30\nklezmer reloaded (PL/RUS/AT)\n\n\n13:15 – 14:45\nAsh my Love (AT)\n\n\n15:30 – 17:00\nConjunto Huelquén-Sillu (CL)\n\n\n\n\n\n\n\nANFAHRT: http://wackelsteinfestival.at/anfahrt  \n\nTickets für das 13. Wackelsteinfestival bekommst du z.B. bei ticketjet oder direkt hier auf dieser Seite\, oder aber auch über oeticket und österreichweit in allen Filialen der Erste Bank und Sparkasse. \n\n  \nFoto: Wilfried Scherzer-Schwarzataler
URL:https://www.schwarzataler-online.at/event/folk-wackelstein-festival-amaliendorf/
LOCATION:Wackelstein Amaliendorf\, Amaliendorf\, Amaliendorf\, 3872\, Österreich
CATEGORIES:Bühne,Essen und Trinken,Events,Festivals,Konzert
ATTACH;FMTTYPE=image/jpeg:https://www.schwarzataler-online.at/wp-content/uploads/2019/07/WACKELSTEINFEST-2018-67.jpg
END:VEVENT
BEGIN:VEVENT
DTSTART;TZID=Europe/Vienna:20190719T200000
DTEND;TZID=Europe/Vienna:20190719T200000
DTSTAMP:20260425T144515
CREATED:20190717T221434Z
LAST-MODIFIED:20190717T221434Z
UID:85847-1563566400-1563566400@www.schwarzataler-online.at
SUMMARY:44+ (Four for Blues) | Jukebox | Köttlach
DESCRIPTION:Am Freitag\, 19. Juli spielen erstmals 44+ (Four for Blues) in der Jukebox an der Triester Straße am Köttlacher Berg auf. Details fidest du am Flyer unten. Beginn: 20 Uhr. \n \n \nAndi Bauer\, Werner Jelinek\, Mike „Lafferty“ Dafert und Volker der Weyse – drums sind 44+ (Four for Blues)  \nFlyer:
URL:https://www.schwarzataler-online.at/event/44-four-for-blues-jukebox-koettlach/
LOCATION:Jukebox\, Wiener Neustädter Str. 2\, Enzenreith\, 2640\, Österreich
CATEGORIES:Events,Konzert
ATTACH;FMTTYPE=image/jpeg:https://www.schwarzataler-online.at/wp-content/uploads/2019/07/44-Jukebox-19.07.2019.jpg
END:VEVENT
END:VCALENDAR