BEGIN:VCALENDAR
VERSION:2.0
PRODID:-//Schwarzataler Online - ECPv6.4.0.1//NONSGML v1.0//EN
CALSCALE:GREGORIAN
METHOD:PUBLISH
X-WR-CALNAME:Schwarzataler Online
X-ORIGINAL-URL:https://www.schwarzataler-online.at
X-WR-CALDESC:Veranstaltungen für Schwarzataler Online
REFRESH-INTERVAL;VALUE=DURATION:PT1H
X-Robots-Tag:noindex
X-PUBLISHED-TTL:PT1H
BEGIN:VTIMEZONE
TZID:Europe/Vienna
BEGIN:DAYLIGHT
TZOFFSETFROM:+0100
TZOFFSETTO:+0200
TZNAME:CEST
DTSTART:20190331T010000
END:DAYLIGHT
BEGIN:STANDARD
TZOFFSETFROM:+0200
TZOFFSETTO:+0100
TZNAME:CET
DTSTART:20191027T010000
END:STANDARD
END:VTIMEZONE
BEGIN:VEVENT
DTSTART;VALUE=DATE:20190911
DTEND;VALUE=DATE:20190928
DTSTAMP:20260425T144532
CREATED:20190905T221627Z
LAST-MODIFIED:20190905T221627Z
UID:87080-1568160000-1569628799@www.schwarzataler-online.at
SUMMARY:Vom Preiner Gscheid ins Herrenhaus - Ulrike Bernhard stellt aus
DESCRIPTION:Sie lebt und arbeitet am Preiner Gscheid (Gemeinde Reichenau) in 1.070 Meter Seehöhe. Die aus Kärnten stammende Künstlerin Ulrike Bernhard hat es zur Rax verschlagen. Von 12. bis 27. September präsentiert die Künstlerin in der Stadtgalerie im alten Herrenhaus in Ternitz unter dem Motto „Passo Passo“ einen Querschnitt ihrer Werke. Die Vernissage zur Ausstellung wird am 11. September gefeiert. Beginn: 19 Uhr. \n \nDie Galerie im alten Herrenhaus ist Montag bis Freitag von 15 bis 17 Uhr geöffnet. \n \nFoto: Bernhard
URL:https://www.schwarzataler-online.at/event/vom-preiner-gscheid-ins-herrenhaus-ulrike-bernhard-stellt-aus/
LOCATION:Galerie im Herrenhaus\, Franz-Dinhobl-Straße 2\, Ternitz\, 2630\, Österreich
CATEGORIES:Ausstellung,Events
ATTACH;FMTTYPE=image/jpeg:https://www.schwarzataler-online.at/wp-content/uploads/2019/09/Ulrike-Bernhard-sw.jpg
END:VEVENT
BEGIN:VEVENT
DTSTART;TZID=Europe/Vienna:20190920T193000
DTEND;TZID=Europe/Vienna:20190920T193000
DTSTAMP:20260425T144532
CREATED:20190918T170321Z
LAST-MODIFIED:20190918T170321Z
UID:87313-1569007800-1569007800@www.schwarzataler-online.at
SUMMARY:Unterdrückung\, Korruption\, Ausbeutung - und Liebe in der Stadthalle Ternitz
DESCRIPTION:Kulturreif aus Ternitz bringt das Musical Urinetown gemeinsam mit dem Musicalensemble X in deutscher Sprache am 20. September in der Stadthalle Ternitz auf die Bühne. Die Gesellschaftssatire  Urinetown bietet mitreißende\, live gespielte und live gesungene Musik und eine spannende Handlung mit viel Humor. Beginn: 19.30 Uhr.\n \n \nDas Musical Urinetown von Mark Hollman und Greg Kotis erzählt eine Geschichte rund um Unterdrückung\, Korruption\, Ausbeutung – und Liebe. Die kluge Gesellschaftssatire lief erfolgreich am Broadway und gewann zahlreiche Preise. Darunter auch Tony Awards für das beste Musical-Libretto und die beste Musik.  \n \nUrinetown – Das Musical – Presented by: kulturreif & Musicalensemble X \nFreitag\, 20.09. – 19.30 Uhr – Stadthalle Ternitz \nTiCKETS: € 18 / € 20 / 22 \nAK-Niederösterreich sowie ÖGB Mitglieder erhalten gegen Vorlage ihrer AK-Service-Karte bzw. Mitgliedskarte 15% Rabatt auf eine Eintrittskarte bei der Stadtgemeinde Ternitz \nVorverkauf bei der Stadtgemeinde Ternitz und Ö-Ticket \nFoto: Veranstalter
URL:https://www.schwarzataler-online.at/event/unterdrueckung-korruption-ausbeutung-und-liebe-in-der-stadthalle-ternitz/
LOCATION:Stadthalle Ternitz\, Theodor-Körner-Platz 2\, Ternitz\, 2630\, Österreich
CATEGORIES:Bühne,Events
ATTACH;FMTTYPE=image/png:https://www.schwarzataler-online.at/wp-content/uploads/2019/09/Urinetown-–-Das-Musical-am-20-09-2019-Event-Kultur-Ternitz.png
END:VEVENT
END:VCALENDAR