BEGIN:VCALENDAR
VERSION:2.0
PRODID:-//Schwarzataler Online - ECPv6.4.0.1//NONSGML v1.0//EN
CALSCALE:GREGORIAN
METHOD:PUBLISH
X-WR-CALNAME:Schwarzataler Online
X-ORIGINAL-URL:https://www.schwarzataler-online.at
X-WR-CALDESC:Veranstaltungen für Schwarzataler Online
REFRESH-INTERVAL;VALUE=DURATION:PT1H
X-Robots-Tag:noindex
X-PUBLISHED-TTL:PT1H
BEGIN:VTIMEZONE
TZID:Europe/Vienna
BEGIN:DAYLIGHT
TZOFFSETFROM:+0100
TZOFFSETTO:+0200
TZNAME:CEST
DTSTART:20200329T010000
END:DAYLIGHT
BEGIN:STANDARD
TZOFFSETFROM:+0200
TZOFFSETTO:+0100
TZNAME:CET
DTSTART:20201025T010000
END:STANDARD
END:VTIMEZONE
BEGIN:VEVENT
DTSTART;VALUE=DATE:20200627
DTEND;VALUE=DATE:20200824
DTSTAMP:20260425T144511
CREATED:20200622T175908Z
LAST-MODIFIED:20200622T180052Z
UID:89413-1593216000-1598227199@www.schwarzataler-online.at
SUMMARY:27.6 - 23.8. | Galerie Gut Gasteil | Werke von Therese Eisenmann und Peter Paszkiewicz/Kunst in der Landschaft
DESCRIPTION:ssDie Eröffnung der zweiten Ausstellung der heurigen Saison in der Galerie am Gut Gasteil (Gemeinde Prigglitz) findet nach dem C-19-Problem planmäßig mit Publikum und unter Einhaltung des vorgeschriebenen Abstands am 27. Juni um 18 Uhr statt. Bis Ende August werden in der Galerie Bilder von Therese Eisenmann und abstrakte Skulpturen von Peter Paszkiewicz gezeigt. Ein Besuch der Galerie kann auch ideal mit einer Wanderung durch die Land-Art-Ausstellung ‚Kunst in der Landschaft‘ verbunden werden. Es warten wieder neue Objekte. Im Biobuffet wird gerne Auskunft gegeben. Die Öffnungszeiten findest du unten. \n \nDie Natur bildet auch in der 2. Saisonausstellung am Gut Gasteil einen klaren Bezugspunkt der Arbeiten und die Eröffnung kann nun am 27. Juni wie geplant mit Publikum stattfinden und die Land-Art-Ausstellung ‚Kunst in der Landschaft‘ lädt rund um das Gut Gasteil ohnedies immer zur freien Erkundung – ebenso der Büchertauschcontainer am Waldrand auf Tauschbücher. \nIngrid und Martin bieten Stärkung zum Kunstangebot. Das kulinarische Programm im Biobuffet mit kleinen Speisen vorwiegend von regionalen Betrieben\, Biokaffee und Kuchen lädt parallel zu den Ausstellungen zu kulinarischen Exkursionen.  \nDie zweite Doppelausstellung zeigt hier zum ersten Mal die kraftvolle Grafik und Malerei von Therese Eisenmann\, der Bildhauer Peter Paszkiewicz hat bereits ein wuchtiges Labrador-Obekt am 16 Hektar großen Areal der ‚Kunst in der Landschaft‘ platziert\, nun sind auch kleinere Steinskulpturen und einige Holzreliefs in der für ihn typischen\, radikalen Abstraktion in den Galerieräumen zu sehen. Die Kunsthistorikerin und Kuratorin Mag. Maria Christine Holter wird die Laudatio halten und Christopher Barber auf der Gitarre seine eigenen Lieder zu Gehör bringen. \nKunst in der Landschaft\nZwei ‚Hohe Helle‘ und das Figurenpaar ‚Vater und Sohn‘ von Charlotte Seidl sind nun – unter „Einhaltung des Sicherheitsabstands“ – in der Kunst in der Landschaft aufgestellt\, ebenso wie die neue ‚Demeter‘ aus Charlotte Seidls Erdfrauen-Serie. Josef Bayer bietet mit seiner Eisenskulptur ‚Kreis‘ einen Rahmen\, durch den der Besucher seinen ganz individuellen Bildausschnitt der Landschaft und der Kunstwerke auswählen kann\, und Andreas Sagmeisters Stahlplastik ‚Wendung VIII‘ gibt auf formal ästhetische Art Denkanstöße über die Vielfalt möglicher Veränderungen und Richtungswechsel. \n2. Saisonausstellung 2020 \nTherese Eisenmann und Peter PaszkiewiczluAusste \n27. Juni – 23. August 2020\, Sa.\, So. und Feiertag 10 – 18 Uhr \nKunst in der Landschaft XII: „verbunden“ \nFür Interessierte bietet das Gut Gasteil einen Newsletter\, der dich über das aktuelle Geschehen informiert: www.gutgasteil.at/newsletter. \nFoto: Wilfried Scherzer-Schwarzataler
URL:https://www.schwarzataler-online.at/event/27-6-23-8-galerie-gut-gasteil-werke-von-therese-eisenmann-und-peter-paszkiewicz-kunst-in-der-landschaft/
LOCATION:Galerie Gut Gasteil\, Gasteil 1\, Prigglitz\, 2640\, Österreich
CATEGORIES:Ausstellung,Events
END:VEVENT
BEGIN:VEVENT
DTSTART;VALUE=DATE:20200704
DTEND;VALUE=DATE:20200906
DTSTAMP:20260425T144511
CREATED:20200622T180847Z
LAST-MODIFIED:20200622T181408Z
UID:89417-1593820800-1599350399@www.schwarzataler-online.at
SUMMARY:4.7. - 5.9. | Payerbach/Reichenau/Breitenstein | Wiedererwachen-Festival
DESCRIPTION:Das kulturelle Wiedererwachen unserer Region nach dem C-19-Zwischenfall findet ab Juli in Payerbach\, Reichenau und Breitenstein statt. Vom 4. Juli bis 5. September bringt das Festival „Wiedererwachen – Sommerfrische Payerbach“ an zehn Spielorten über 40 Veranstaltungen auf diverse Bühnen: Den Auftakt machen Otto Lechner\, Klaus Trabitsch und Peter Rosmanith. Doina Weber spielt „Das tägliche Leben“ von Marie von Ebner-Eschenbach\, Tobias Reinthaller liest Michael Köhlmeier\, Burgschauspielerin Stefanie Dvorak macht hinterfotzige Beobachtungen\, Guido Mayer dirigiert Beethoven und Schönberg\, darüberhinaus spielen DozentInnen der Payerbacher Meisterkurse und Gäste zahlreiche Konzerte. Hotelier Heinz Hübner und die Musikprofessorin Eva Salmutter haben mit Unterstützung der Gemeinde Payerbach und dem Land Niederösterreich das Kulturfestival auf die Beine gestellt. \n \nDas Festival serviert ein reichhaltiges Musik-Programm: Otto Lechner\, Klaus Trabitsch und Peter Rosmanith formieren sich als Los Gringos und geben unter „Ein Sommernachtstraum“ eigene Werke zum Besten. \nEva Salmutter kuratiert die Konzertserie der von ihr gegründeten Payerbacher Meisterkurse: Zu hören sind Werke aus Bachs Goldberg-Variationen und von Francesco Geminiani\, von Zoltan Kodaly bis Franz Schubert und Johann Sebastian Bach. \nLos Gringos läuten am 4. Juli das Kulturfestival ein. \nArnold Schönberg komponierte in Payerbach \nDer international renommierte Musiker Guido Mayer dirigiert mit einem Streich-Orchester Beethovens „Große Fuge“ sowie die „Verklärte Nacht“ von Arnold Schönberg. Schönberg komponierte dieses Werk übrigens im Herbst 1899 in Payerbach. \n1908 erschien die Erzählung „Das tägliche Leben“ von Marie von Ebner-Eschenbach\, und damit einer der kompromisslosesten modernen Texte von Ebner-Eschenbach. Doina Weber spielt dieses Stück\, inszeniert von Anna Maria Krassnigg\, im Pavillon des Payerbacher Kurparks\, der nahezu in der selben Zeit errichtet wurde\, als die Erzählung erschienen ist\, in der der plötzliche Tod einer angesehenen Dame der Wiener Gesellschaft deren bester Freundin ein schreckliches Rätsel aufgibt. \nDoina Weber spielt „Das tägliche Leben“ von Marie von Ebner-Eschenbach. \nDer Schauspieler Tobias Reinthaller liest aus den Sagen des klassischen Altertums von Michael Köhlmeier. Der junge Schauspieler war auch schon als Aleksei zusammen mit Julia Stemberger in Turgenjews „Ein Monat auf dem Land“ in Reichenau zu sehen. \nDie Burgschauspielerin Stefanie Dvorak singt und liest aus ihrem Programm “ Lieben & Leben (in der Vorstadt)“ mit ihrer Band Öha und macht dabei schwarzhumorige bis hinterfotzige Beobachtungen zwischen Simmering under Hernals. \n„Die etablierten Festspiele Reichenau müssen diesen Sommer Covid-19-bedingt aussetzen. Damit unsere Region dennoch kulturell versorgt wird\, haben wir das Kulturfestival Wiedererwachen – Sommerfrische Payerbach initiiert“\, skizziert der Payerbacher Bürgermeister Eduard Rettenbacher. \n„Endlich können nach dieser langen Zeit der Abstinenz rechtzeitig zu Sommerbeginn auch wieder erste Kulturveranstaltungen stattfinden. Mit Wiedererwachen – Sommerfrische Payerbach ist es gelungen\, dass es auch diesen Sommer wieder ein vielseitiges Kulturfestival in Region Payerbach-Reichenau gibt“\, freut sich Landeshauptfrau Johanna Mikl-Leitner. \nAlles in allem wird ein vielschichtiges Programm geboten\, das den sommerlichen Kulturhunger im Oberen Schwarzatal und darüber hinaus durchaus zu stillen vermögen in der Lage sein dürfte. \nAlle Informationen und Details zum Programm\, Spielorten und Kartenvorverkauf findest du HiER – auch zum Runterladen. \nFotos: Veranstalter\, Weber
URL:https://www.schwarzataler-online.at/event/4-7-4-9-payerbach-reichenau-breitenstein-wiedererwachen-festival/
CATEGORIES:Bühne,Events,Festivals,Konzert,Lesung
END:VEVENT
END:VCALENDAR