BEGIN:VCALENDAR
VERSION:2.0
PRODID:-//Schwarzataler Online - ECPv6.4.0.1//NONSGML v1.0//EN
CALSCALE:GREGORIAN
METHOD:PUBLISH
X-WR-CALNAME:Schwarzataler Online
X-ORIGINAL-URL:https://www.schwarzataler-online.at
X-WR-CALDESC:Veranstaltungen für Schwarzataler Online
REFRESH-INTERVAL;VALUE=DURATION:PT1H
X-Robots-Tag:noindex
X-PUBLISHED-TTL:PT1H
BEGIN:VTIMEZONE
TZID:Europe/Vienna
BEGIN:DAYLIGHT
TZOFFSETFROM:+0100
TZOFFSETTO:+0200
TZNAME:CEST
DTSTART:20190331T010000
END:DAYLIGHT
BEGIN:STANDARD
TZOFFSETFROM:+0200
TZOFFSETTO:+0100
TZNAME:CET
DTSTART:20191027T010000
END:STANDARD
END:VTIMEZONE
BEGIN:VEVENT
DTSTART;VALUE=DATE:20190314
DTEND;VALUE=DATE:20190517
DTSTAMP:20260425T174440
CREATED:20190310T200555Z
LAST-MODIFIED:20190310T200555Z
UID:83590-1552521600-1558051199@www.schwarzataler-online.at
SUMMARY:JazzAmSTiergraben in Neunkirchen feiert mit feinen Konzerten
DESCRIPTION:Zehn Jahre JazzAmSTiergraben in Neunkirchen! Die Gäste im heurigen Jubiläumsjahr sind unter anderen der Sänger Michael Hoffmann (u.a. Starmania Finalist)\, der Hang Spieler und Percussionist Robin Gillard und zu guter Letzt die Musiker von jazzclub.unlimited\, die vor einem Jahrzehnt den bunten musikalischen Reigen am Stiergraben eröffneten. Programm unten und Flyer. Beginn: jeweils 19.30 Uhr. \n \n. \nInitiiert vom Neunkirchner Künstler Joe Pinkl und in Kooperation mit der Stadtgemeinde Neunkirchen gab es bisher 26 Konzerte mit interessanten und neuen Begegnungen von Musikern aus allen Ecken der populären Musik. \n. \n. \n. \n. \n  \nDer musikalische Bogen der Konzertreihe spannt sich im heuriger Jahr von Jazz und Blues über Soul\, Pop und Rock bis zu World Music. \n  \n Das Programm\n14.03. Michael Hoffmann Trio\nMichael Hoffmann . vocal\, piano\nMario Machacek – guitar\nJoe Pinkl – piano\, melodica\, tuba\nRainer Gärtner – percussion\nSoul\, Jazz\, Blues\, Pop \n11.04. HANG OVER\nRobin Gillard – hang\, percussion\nJoe Pinkl – piano\, trombone\, melodica\, percussion\nWorld music\, Jazz \n16.05. jazzclub.unlimited\nMartina Zwickl – vocal\nThomas Gaspar – Saxophon\nJoe Pinkl –piano\, trombone\nRainer Leutgeb – bass\nGerhard Leutgeb – drums\nJazz\, Swing\, Pop\, Soul \n \nTickets: €15 / €6 für Schüler bis 16 Jahren\nKarten sind in der Sparkasse Neunkirchen und an der Abendkasse erhältlich.\nWeitere Informationen findest du hier. \nFotos: Veranstalter
URL:https://www.schwarzataler-online.at/event/jazzamstiergraben-in-neunkirchen-feiert-mit-feinen-konzerten/
LOCATION:Kulturzentrum am Stiergraben\, Schulgasse 4\, Neunkirchen\, 2651\, Österreich
CATEGORIES:Bühne,Events,Festivals,Konzert
ATTACH;FMTTYPE=image/jpeg:https://www.schwarzataler-online.at/wp-content/uploads/2019/03/jast.jpg
END:VEVENT
BEGIN:VEVENT
DTSTART;VALUE=DATE:20190321
DTEND;VALUE=DATE:20190406
DTSTAMP:20260425T174440
CREATED:20190318T163109Z
LAST-MODIFIED:20190318T163150Z
UID:83860-1553126400-1554508799@www.schwarzataler-online.at
SUMMARY:Hans Wieringer stellt in der Galerie im Herrenhaus in Ternitz aus
DESCRIPTION:Der Willendorfer Künstler Hans Wieringer zeigt in der Stadtgalerie im Alten Herrenhaus in Ternitz einen Querschnitt seines Schaffens. Während der Ausstellung vom 21. März bis 5. April ist die Galerie Montag bis Freitag von 15 Uhr bis 17 Uhr bei freiem Eintritt göffnet. Vernissage wird am Mittwoch 20. März gefeiert. Die Laudatio hält Kunsthistorikerin Univ.-Prof. Dr. phil. Renate Vergeiner\, Kulturstadtrat KR Peter Spicker eröffnet die Ausstellung. Beginn: 19 Uhr. \n \nHans Wieringer: Sprechen & Hören \nGrafik: Hans Wieringer
URL:https://www.schwarzataler-online.at/event/hans-wieringer-stellt-in-der-galerie-im-herrenhaus-in-ternitz-aus/
LOCATION:Galerie im Herrenhaus\, Franz-Dinhobl-Straße 2\, Ternitz\, 2630\, Österreich
CATEGORIES:Ausstellung,Events
ATTACH;FMTTYPE=image/jpeg:https://www.schwarzataler-online.at/wp-content/uploads/2019/03/Sprechen-Hören.jpg
END:VEVENT
BEGIN:VEVENT
DTSTART;VALUE=DATE:20190330
DTEND;VALUE=DATE:20190501
DTSTAMP:20260425T174440
CREATED:20190305T152720Z
LAST-MODIFIED:20190305T153328Z
UID:83406-1553904000-1556668799@www.schwarzataler-online.at
SUMMARY:Russkaja mit neuem Album auf Österreich-Tour
DESCRIPTION:Auf ihrem sechsten Album No One Is Illegal\, das Ende März auf der Scheibenwelt landet\, reißen Russkaja nicht nur musikalische Grenzen nieder\, sondern mischen sich ein: Einfach mal sagen\, was Sache ist\, und das heißt: Miteinander statt gegeneinander! Ab Ende März touren Russkaja durch Österreich. Die Stationen: Graz\, Dornbirn\, Wien\, Salzburg\, Steyr und Innsbruck. Alle Termine findest du hier. \n \nAls erstes: Die Stühle aus dem Saal räumen\, die Tanzfläche freimachen\, die Getränke verteilen und sich in Tanz-Mosh-Polka-Position bringen: Russkaja kommen und es darf gefeiert werden! \n \n„No One Is Illegal kann man nicht auf dem Sofa liegend hören\, diese Musik bringt Menschen außer Atem\, nicht nur auf der Tanzfläche“\, meint der in Berlin lebende Moskauer Bestsellerautor Wladimir Kaminer – und bringt es damit auf den Punkt. \nFoto © Lukas Hueller/Russkaja
URL:https://www.schwarzataler-online.at/event/russkaja-mit-neuem-album-auf-oesterreich-tour/
CATEGORIES:Bühne,Events,Konzert
ATTACH;FMTTYPE=image/jpeg:https://www.schwarzataler-online.at/wp-content/uploads/2019/03/RU06_smal_G_mit_1_03c.jpg
END:VEVENT
BEGIN:VEVENT
DTSTART;TZID=Europe/Vienna:20190403T190000
DTEND;TZID=Europe/Vienna:20190423T190000
DTSTAMP:20260425T174440
CREATED:20190329T164352Z
LAST-MODIFIED:20190329T164420Z
UID:84140-1554318000-1556046000@www.schwarzataler-online.at
SUMMARY:Enzo Brandner & Samba in der kleinen Galerie in der Triester Straße
DESCRIPTION:Mittwoch\, 3. April wird in der ‚kleinen Galerie in der Triester Straße‘ in Neunkirchen die Vernissage zur Ausstellung des Künstlers Enzo Brandner mit einer heißen Samba-Show gefeiert. Beginn: 19 Uhr. Die Bilderschau ‚Living In Waves‘ ist bis 23. April zu sehen.\n \n \nBei der Vernissage werden zwei südamerikanische Tänzerinnen eine feurige Samba-Tanzeinlage präsentieren. Die Tumbao Dance Company unter der Leitung von Nancy Castillo wird das Publikum sicher begeistern und die Bilder von ENZO vortrefflich umrahmen.\n\nEin Highlight kommt selten alleine: am Mittwoch darauf\, dem 10.4.\, um 19 Uhr\, ist in der kleinen Galerie das Klassik-Duo Park-Guschlbauer zu Gast\, das das siebente Galeriekonzert mit „Kontraste – Duos von Barock bis zur Moderne“\, bestreitet.\nKarten sind im Vorverkauf über die kleine Galerie erhältlich.\nFoto: Tumbao Dance Company
URL:https://www.schwarzataler-online.at/event/enzo-brandner-samba-in-der-kleinen-galerie-in-der-triester-strasse/
LOCATION:Die kleine Galerie in der Triester Straße\, Triester Straße 52\, 2620 Neunkirchen\, Österreich
CATEGORIES:Ausstellung,Events,Tanzveranstaltungen
ATTACH;FMTTYPE=image/jpeg:https://www.schwarzataler-online.at/wp-content/uploads/2019/03/samba.jpg
END:VEVENT
BEGIN:VEVENT
DTSTART;TZID=Europe/Vienna:20190406T200000
DTEND;TZID=Europe/Vienna:20190406T200000
DTSTAMP:20260425T174440
CREATED:20190331T165509Z
LAST-MODIFIED:20190331T191934Z
UID:84220-1554580800-1554580800@www.schwarzataler-online.at
SUMMARY:Bandcontest-Gewinner FlipNFlop live im Kulturkeller Ternitz
DESCRIPTION:FlipNFlop\, damit verbindet man gute Laune und hammergeilen Sound aus der Stadt in den Bergen. Am 6. April bringen die Drei Gloggnitzer frischen Austropop in den Kulturkeller Ternitz. Beginn: 20 Uhr. \n \nLukas Polansky und Sebastian Holzer haben es sich als Ziel gesetzt\, den Austropop wieder groß zu machen\, und sind auf gutem Wege.  Am 27. Oktober des Vorjahres konnten sich FlipNFlop den Sieg beim Finale des L.O.U.D.-Bandcontests sichern und im vergangenen November haben sie ihre erste Single veröffentlicht\, „Steh auf und leb“. Damit wollen FlipNFlop eine Botschaft verbreiten und den Menschen klarmachen\, dass sie nicht Trübsal blasen sollen\, wenn es mal nicht so gut läuft\, sondern ihr Leben in die Hand nehmen und nach vorne blicken.Und \nSebastian Holzer\, Lukas Polansky und Paul Paszkiewicz (v.l.) sind FlipNFlop  \nEintritt: Vorverkauf € 8 und Abendkasse € 10  \nAKNÖ-Mitglieder erhalten gegen Vorlage ihrer AK-Service-Karte 15% auf eine Eintrittskarte bei der Stadtgemeinde Ternitz  \nVorverkauf bei der Stadtgemeinde Ternitz \nFoto: just2takes
URL:https://www.schwarzataler-online.at/event/bandcontest-gewinner-flipnflop-live-im-kulturkeller-ternitz/
LOCATION:Kulturkeller Ternitz\, Franz-Dinhobl-Straße 2\, Ternitz\, 2630\, Österreich
CATEGORIES:Bühne,Events,Konzert
ATTACH;FMTTYPE=image/jpeg:https://www.schwarzataler-online.at/wp-content/uploads/2019/03/flipnflop_by_just2takes_hp.jpg
END:VEVENT
BEGIN:VEVENT
DTSTART;TZID=Europe/Vienna:20190407T203000
DTEND;TZID=Europe/Vienna:20190407T203000
DTSTAMP:20260425T174440
CREATED:20190401T174739Z
LAST-MODIFIED:20190401T174739Z
UID:84235-1554669000-1554669000@www.schwarzataler-online.at
SUMMARY:Starpianist Ludovicio Einaudi gastiert im Wiener Musikverein
DESCRIPTION:Der italienische Starpianist Ludovico Einaudi tritt am 7. April im Grossen Saal des Wiener Musikvereins auf. Beginn: 20.30 Uhr.\n \n  \nDer Pianist Ludovico Einaudi\, 1955 in Turin geboren\, ist Sproß einer in Italien sehr bekannten Familie. Sein Vater war der Verleger Giulio Einaudi\, der 1933 das heute noch bestehende\, sehr renommierte Verlagshaus Einaudi gegründet hat. \nLuigi Einaudi\, einer seiner Großväter\, war von 1948 bis 1955 italienischer Staatspräsident. Ludovicos Kindheit war vom Kontakt mit Politikern und Künstlern geprägt. Er entschied sich früh für die Sphäre der Ästhetik. \nDie Musik des italienischen Komponisten und Pianisten gilt als Garant für eine Stimmung\, die eine fast schon meditativ zu nennende Haltung bei Hörern erzielt. \nLudovico Einaudi \nMit Kammermusik und als Filmmusikkomponist\, unter anderem für die preisgekrönte Komödie Ziemlich beste Freunde\, machte sich Ludovico Einaudi einen Namen.\nSo perlt eine Musik mit melodischer Schönheit aus seinem Klavier und hört sich an\, als würde er die Zeit\, die er auf dem großelterlichen Weingut im italienischen Piemont verbringt\, zum wirklich tiefenentspannten Komponieren zu nutzen wissen. \nTICKETS unter: Musikverein www.musikverein.at  Tel: +43 1 5058190 und Wien-Ticket www.wien-ticket.at  Tel: +43 1 58885  \nFoto: Promotion
URL:https://www.schwarzataler-online.at/event/starpianist-ludovicio-einaudi-gastiert-im-wiener-musikverein/
LOCATION:Musikverein Wien\, Musikvereinsplatz 1\, Wien\, 1010\, Österreich
CATEGORIES:Bühne,Events,Konzert
ATTACH;FMTTYPE=image/jpeg:https://www.schwarzataler-online.at/wp-content/uploads/2019/04/einaudi_ludovico.jpg
END:VEVENT
BEGIN:VEVENT
DTSTART;TZID=Europe/Vienna:20190411T200000
DTEND;TZID=Europe/Vienna:20190411T200000
DTSTAMP:20260425T174440
CREATED:20190404T183938Z
LAST-MODIFIED:20190404T183938Z
UID:84248-1555012800-1555012800@www.schwarzataler-online.at
SUMMARY:Folklore und Chansons in jazzigen Arrangements live in Wien
DESCRIPTION:Das Trio Kinti präsentiert am 11. April in der Weinbar ‚Gemischter Satz‘ traditionelle bulgarische Folklore und berühmte Chansons in modernen\, jazzigen Arrangements. Kinti\, das sind Sängerin Gergana Popova\, Gitarrist Andi Wilding und Saxophonist Lubomir Gospodinov. Ein entspannend-musikalischer Abend erwartet die BesucherInnen. Beginn: 20 Uhr. \n \nDas Trio ‚Kinti‘ gastiert in der Weinbar ‚Gemischter Satz‘  \nEintritt: € 15 \nFoto: Johannes Ehn \n 
URL:https://www.schwarzataler-online.at/event/folklore-und-chansons-in-jazzigen-arrangements-live-in-wien/
LOCATION:WEINBAR „GEMISCHTER SATZ“\, Cobelzlgasse 4\, Wien\, 1190\, Österreich
CATEGORIES:Bühne,Events,Konzert
ATTACH;FMTTYPE=image/jpeg:https://www.schwarzataler-online.at/wp-content/uploads/2019/04/KINTI-2-Foto-Johannes-Ehn.jpeg
END:VEVENT
BEGIN:VEVENT
DTSTART;TZID=Europe/Vienna:20190412T180000
DTEND;TZID=Europe/Vienna:20190412T180000
DTSTAMP:20260425T174440
CREATED:20190410T190032Z
LAST-MODIFIED:20190410T190032Z
UID:84299-1555092000-1555092000@www.schwarzataler-online.at
SUMMARY:Kindermusical | Kulturhaus Pottschach | Ternitz
DESCRIPTION:Zum 50-jährigen Schuljubiläum der VS Pottschach führen am 12. April Kinder\, Lehrkräfte\, Studenten der VS Pottschach unter der Regie von SR Rosa Wallner im Kulturhaus Pottschach das Kindermusical Rolfs Hasengeschichte – Ich bin stark auf. Beginn: 18 Uhr. \n \nDas Häschen kommt seit Tagen nicht aus seiner Hasengrube\, es ist krank\, mag nichts essen und nichts trinken. Auch der Hasendoktor ist ratlos. Die Eltern und die anderen Hasenkinder versuchen\, es aufzumuntern. Das Häschen ist krank vor Kummer\, weil sein Großvater gestorben ist und nun nicht mehr bei ihm ist und mit ihm die Ostereier bemalen kann. Da hat die Hasenmutter eine Idee! Sie holt das große Osterhasenbuch\, aus dem der Großvater immer vorgelesen hat\, und zeigt dem Häschen\, dass der Großvater auf diese Weise immer noch bei ihm ist. Schon bald kehren die Kräfte des Häschens zurück und es singt glücklich: Ich bin stark! \n \nKarten: Stadtgemeinde Ternitz und Raika Pottschach €10 für Erwachsene\, €5 für Kinder\n \nFoto: Julia Ginsbach \n 
URL:https://www.schwarzataler-online.at/event/kindermusical-kulturhaus-pottschach-ternitz/
LOCATION:Kulturhaus Pottschach\, Franz Samwald Str. 4\, Ternitz\, 2630\, Österreich
CATEGORIES:Bühne,Events,Tanzveranstaltungen
ATTACH;FMTTYPE=image/png:https://www.schwarzataler-online.at/wp-content/uploads/2019/04/Rolfs-Hasengeschichte-Ich-bin-stark-Kindermusical-am-12-04-2019-Event-Kultur-Ternitz.png
END:VEVENT
BEGIN:VEVENT
DTSTART;TZID=Europe/Vienna:20190412T190000
DTEND;TZID=Europe/Vienna:20190412T190000
DTSTAMP:20260425T174440
CREATED:20190405T175331Z
LAST-MODIFIED:20190405T175644Z
UID:84263-1555095600-1555095600@www.schwarzataler-online.at
SUMMARY:Herbert Hirschler entführt in Neunkirchen auf Jakobswege
DESCRIPTION:Es gibt ja nicht nur den Jakobsweg – wer mehr als 2.000 Kilometer auf verschiedensten Jakobswegen marschiert ist\, der hat jede Menge zu erzählen. Der Ternitzer Musiker\, Texter und Autor Herbert Hirschler zeigt am 12. April im Hotel-Restaurant Osterbauer in Neunkirchen nicht nur Impressionen seiner Pilgerwanderung auf dem berühmten nordspanischen Jakobsweg\, er entführt die BesucherInnen auch auf den portugiesischen und den weststeirischen Jakobsweg. Beginn: 19 Uhr. \n \n2010 pilgerte Herbert Hirschler 1.100 Kilometer am nordspanischen Küstenweg\, der weltbekannten Ruta del Norte\, vom französischen Hendaye über San Sebastian\, Bilbao und Gijon bis Santiago de Compostela und weiter nach Finisterre und Muxia. \n2012 war dann der weststeirische Jakobsweg an der Reihe\, 150 Kilometer von Thal bei Graz über Bärnbach\, Modriach\, bis zum höchsten Punkt aller europäischen Jakobswege\, dem Großen Speikkogel auf der Koralpe mit 2.140 Meter über dem Mittelmeer und weiter nach Soboth und Lavamünd. \nUnd 2016 ging’s dann 750 Kilometer an der portugiesischen Küste entlang am Trilho das Areias von Lissabon nach Porto und dann weiter am Caminho da Costa nach Santiago de Compostela. \nHerbert Hirschler pilgerte auf verschiedenen Jakobswegen \nLaut dem Facebook-Forum für die portugiesischen Jakobswege\, das alle Pilgerschaften genauestens aufzeichnet\, ist Herbert Hirschler der erste deutschsprachiger Pilger\, der die Variante an der Küste entlang von Lissabon nach Santiago de Compostela zur Gänze gepilgert ist.  \nKarten gibt es HiER \nFoto: Hirschler
URL:https://www.schwarzataler-online.at/event/herbert-hirschler-entfuehrt-in-neunkirchen-auf-jakobswege/
LOCATION:Hotel-Restaurant Osterbauer\, Brevilliergasse 5\, 2620 Neunkirchen\, Österreich
CATEGORIES:Events,Lesung,Multimedia,Vortrag
ATTACH;FMTTYPE=image/jpeg:https://www.schwarzataler-online.at/wp-content/uploads/2019/04/Jakobsweg-XXL-von-Herbert-Hirschler.jpg
END:VEVENT
BEGIN:VEVENT
DTSTART;TZID=Europe/Vienna:20190413T200000
DTEND;TZID=Europe/Vienna:20190413T200000
DTSTAMP:20260425T174440
CREATED:20190411T181654Z
LAST-MODIFIED:20190411T181654Z
UID:84302-1555185600-1555185600@www.schwarzataler-online.at
SUMMARY:Bluespumpm & Peter Ratzenbeck | Stadtkino | Ternitz
DESCRIPTION:Bluespumpm und Peter Ratzenbeck? Eine interessante Kombination von zwei österreichischen Klassikern. Blues trifft am 13. April im Stadtkino Ternitz auf Akustik-Gitarre. Beginn: 20 Uhr. \n \nEine spannende Mixtur erwartet die Konzertbesucher m Stadtkino. Nach einem Akustik-Set von Fingerpicking-Meister Peter Ratzenbeck und einem Blues-Gewitter der Bluespumpm wird Peter seine heißgeliebten\, viel zu selten strapazierten Stratocasters mit der Bluespumpm zum Einsatz bringen. \nBluespumpm & Peter Ratzenbeck (r.) \nEintritt: Vorverkauf € 20 und Abendkasse € 25. AKNÖ-Mitglieder erhalten gegen Vorlage ihrer AK-Service-Karte 15 Prozent auf eine Eintrittskarte bei der Stadtgemeinde Ternitz \nKarten: Stadtgemeinde Ternitz\, Sparkassen im Bezirk Neunkirchen und Ö-Ticket \nFoto: Dietmar Liebovich
URL:https://www.schwarzataler-online.at/event/bluespumpm-peter-ratzenbeck-stadtkino-ternitz/
LOCATION:Stadtkino Ternitz\, Dammstr. 4\, Ternitz\, 2630
CATEGORIES:Bühne,Events,Konzert
ATTACH;FMTTYPE=image/png:https://www.schwarzataler-online.at/wp-content/uploads/2019/04/Bluespumpm-Peter-Ratzenbeck-am-13-04-2019-Event-Kultur-Ternitz.png
END:VEVENT
BEGIN:VEVENT
DTSTART;VALUE=DATE:20190416
DTEND;VALUE=DATE:20190418
DTSTAMP:20260425T174440
CREATED:20190122T132812Z
LAST-MODIFIED:20190122T132905Z
UID:82125-1555372800-1555545599@www.schwarzataler-online.at
SUMMARY:Bob Dylan kommt nach Wien und nach Innsbruck
DESCRIPTION:Bob Dylan ist ein Künstler\, der sich weigert sich auf seinem Legendenstatus auszuruhen. Stattdessen erfindet er sich mit seiner kongenialen Begleitband Abend für Abend auf der Bühne neu. Am 16. und 17. April gastiert His Bobness im Konzerthaus in Wien\, am 19. April steht dann Innsbruck auf dem Tourplan. Beginn: jeweils 20 Uhr. \n \nEr begeistert dabei mit neuen Lesearten von Songs\, die Generationen bewegt und berührt haben und immer wieder unterschiedlichen Stücken aus einem Lebenswerk\, das seinesgleichen vergeblich sucht. \n \nTickets hat Musicticket und Oeticket. \nFoto: Wilfried Scherzer-Schwarzataler
URL:https://www.schwarzataler-online.at/event/bob-dylan-kommt-nach-wien-und-nach-innsbruck/
LOCATION:Konzerthaus Wien\, Lothringerstraße 20\, Wien\, 1030\, Österreich
CATEGORIES:Bühne,Events,Konzert
ATTACH;FMTTYPE=image/jpeg:https://www.schwarzataler-online.at/wp-content/uploads/2019/01/20150626-5.jpg
END:VEVENT
BEGIN:VEVENT
DTSTART;VALUE=DATE:20190425
DTEND;VALUE=DATE:20190511
DTSTAMP:20260425T174440
CREATED:20190421T165637Z
LAST-MODIFIED:20190421T165637Z
UID:84337-1556150400-1557532799@www.schwarzataler-online.at
SUMMARY:Bella von Krogh 'Zei(T)Raum' | Stadtgalerie im Alten Herrenhaus | Ternitz
DESCRIPTION:Die in Wien lebende deutsche Künstlerin Bella von Krogh zeigt vom 25. April bis 10. Mai in der Stadtgalerie Ternitz im Alten Herrenhaus unter dem Motto ‚Zeit(T)Raum‘ einen Querschnitt ihres Schaffens. Vernissage wird am 24. April gefeiert. Beginn: 19 Uhr. Die Galerie ist montags bis freitags von 15 bis 17 Uhr geöffnet. \n \nBella von Krogh – „Ohne Titel“ – Mischtechnik\, 90 cm x 90 cm
URL:https://www.schwarzataler-online.at/event/bella-von-krogh-zeitraum-stadtgalerie-im-alten-herrenhaus-ternitz/
LOCATION:Stadtgalerie im alten Herrenhaus\, Franz Dinhoblstraße 2\, Ternitz\, 2630\, Österreich
CATEGORIES:Ausstellung,Events
ATTACH;FMTTYPE=image/jpeg:https://www.schwarzataler-online.at/wp-content/uploads/2019/04/Bella-von-Krogh-Ohne-Titel.jpg
END:VEVENT
BEGIN:VEVENT
DTSTART;TZID=Europe/Vienna:20190426T200000
DTEND;TZID=Europe/Vienna:20190426T200000
DTSTAMP:20260425T174440
CREATED:20190423T195712Z
LAST-MODIFIED:20190423T195712Z
UID:84347-1556308800-1556308800@www.schwarzataler-online.at
SUMMARY:Rays und UpClose | Kulturkeller | Ternitz
DESCRIPTION:Die Band „Rays“ hat sich in der Musikschule Wiener Neustadt zusammengefunden\, um Rock & Pop aller Art zu spielen.Am 26. April rockt die Band im Kulturkeller in Ternitz. Beginn: 20 Uhr. \n \nBassist Clemens und Schlagzeuger Emil\, die bereits über drei Jahre in der Band „Royal Ivy“ gespielt hatten\, suchten jemanden an Gitarre und Mikrofon und fanden die bereits bekanntere Sängerin Selina Ray und die Gitarristin Jessi. Seither spielen sie Covers und Eigenkompositionen von Selina. \nUpClose ist eine Rock-Alternative Band aus Katzelsdorf\, bestehend aus David\, Berni\, Peter und Flo. Geprägt von Rock\, Pop\, Metal und Spaß an der Musik rockten sie schon einige Gigs in Wien\, Wiener Neustadt und Umgebung. Im April 2018 feierten sie ihre Debut-EP „Lost Cause“. \nRays (oben) und UpClose rocken am Freitag im Kulturkeller \nEintritt: Vorverkauf € 8 und Abendkasse € 10.  \nAKNÖ-Mitglieder erhalten gegen Vorlage ihrer AK-Service-Karte 15% auf eine Eintrittskarte bei der Stadtgemeinde Ternitz. Vorverkauf bei der Stadtgemeinde Ternitz \nFoto: Veranstalter
URL:https://www.schwarzataler-online.at/event/rays-und-upclose-kulturkeller-ternitz/
LOCATION:Kulturkeller Ternitz\, Franz-Dinhobl-Straße 2\, Ternitz\, 2630\, Österreich
CATEGORIES:Bühne,Events,Konzert
ATTACH;FMTTYPE=image/jpeg:https://www.schwarzataler-online.at/wp-content/uploads/2019/04/raysupclose_montage_hp.jpg
END:VEVENT
BEGIN:VEVENT
DTSTART;VALUE=DATE:20190427
DTEND;VALUE=DATE:20190617
DTSTAMP:20260425T174440
CREATED:20190426T204513Z
LAST-MODIFIED:20190426T204513Z
UID:84382-1556323200-1560729599@www.schwarzataler-online.at
SUMMARY:Andrea Schnell und Valentin Oman | Galerie Gut Gasteil | Prigglitz
DESCRIPTION:Am Samstag\, 27. April\, startet in der Galerie Gut Gasteil in Prigglitz die Saison mit  einer Ausstellung von Werken von Andrea Schnell und Valentin Oman. Die Künstler sind anwesend. Die Laudatio hält der Kunsthistoriker und Kulturwissenschaftler Hartwig Knack. Beginn: 18 Uhr  \n \n\nAndrea Schnell\, Malerei und Graphik\nMit markantem Strich und groben Pinselstrichen\, Kollagen und als Monographie zeichnet Andrea Schnell meist weibliche Wesen aus den Zwischenwelten. Eine wie hingeworfene Linie\, ein Klecks\, ein gestricheltes Kraftfeld – intuitiv beginnen die Figuren Gestalt anzunehmen und festigen dann im weiteren Prozess ihre Form.\n \n\n\nValentin Oman\, Spuren und Strukturen\nValentin Oman schätzt die Spuren der Vergangenheit – er nimmt sie auf oder schafft sie neu. Damit gibt er ihnen einen zusätzlichen Stellenwert\, einen Wert der zeitlosen Gültigkeit und der Ästhetik. Es sind die Spuren des Menschen und seiner endlosen Leidensgeschichte und die Strukturen der Natur auf deren Fährte sich der 1935 in St. Stefan bei Villach geborene Maler und Graphiker begibt und denen er in seiner Kunst eine neue Form gibt.\n \n\n\nBiobuffet\nParallel zum Kunstangebot bietet das kulinarische Programm im Biobuffet kleine Speisen\, vorwiegend von regionalen Betrieben\, Biokaffee und Kuchen. Als kontrollierter Biobauernhof bietet das Gut Gasteil auch Lammfleisch von ungemästeten Juraschafen\, Felle\, Wolle\, Fruchtsäfte\, Edelbrände\, Obst und Nüsse.\nModel Sarah mit Charlotte Seidl beim Spaziergang durch Kunst in der Landschaft \n \n\nKunst in der Landschaft XII: „verbunden“\nAb sofort laden neue Exponate zum Entdeckung in der Galerie und zur frei spazierenden Erkundung der Landschaftskunst unter dem Motto ‚verbunden‘ ein.\nFoto: Wilfried Scherzer-Schwarzataler
URL:https://www.schwarzataler-online.at/event/andrea-schnell-valentin-oman-gut-gasteil-prigglitz/
LOCATION:Galerie Gut Gasteil\, Gasteil 1\, Prigglitz\, 2640\, Österreich
CATEGORIES:Ausstellung,Essen und Trinken,Events,Heuriger
ATTACH;FMTTYPE=image/jpeg:https://www.schwarzataler-online.at/wp-content/uploads/2019/04/SARAH-SCHERZER-GASTEIL-180423-526.jpg
END:VEVENT
BEGIN:VEVENT
DTSTART;TZID=Europe/Vienna:20190427T170000
DTEND;TZID=Europe/Vienna:20190427T170000
DTSTAMP:20260425T174440
CREATED:20190418T164915Z
LAST-MODIFIED:20190418T164915Z
UID:84327-1556384400-1556384400@www.schwarzataler-online.at
SUMMARY:TRIEBCON 2019 | Triebwerk | Wiener Neustadt
DESCRIPTION:Die zweite Auflage der Video- und Spiele-Convention TRIEBCON  steigt am 27. April im Triebwerk in Wiener Neustadt. Einen Abend lang wird gezockt und getalkt. Beginn: 17 Uhr.  \n \nAusserdem gibt es auch ein FIFA19-Turnier. Die Triebwerker freuen sich über die Macher von „Team Turbo„\, die einen aufwendig betriebenen DIY YouTube-Kanal rund um einen sprechenden Ventilator betreiben. Außerdem wir der professionelle E-Sportler  Gregor Zuntermann über sein Lebens als FIFA-Vereinsspieler bei der Admira reden. Dazu gibt es wieder Spielestationen von Gamstop Fischapark und ein FIFA-Turnier! Als Hauptpreis winkt das Spiel FIFA 20 – gesponsert von Malermeister  Krumschmid. Anmeldung im Triebwerk. \n \nHier der Zeitplan\n17.00 Uhr           Beginn / Einlass / Anmeldung für FIFA Turnier\n                              Konsolenspielestationen [Backstage & Hauptraum] \n17.30 Uhr           Anmeldeschluss für FIFA Turnier \n18.00 Uhr           Begrüßung\, Moderation von Clemens von „Des Firma“ \n                              Beginn FIFA Turnier \n18.15 Uhr           Talk & Treff mit Team Turbo (+ Präsentation) [Bühne] \n19.00 Uhr           Talk & Treff mit Gregor 1607 [Bühne] \n19.45 Uhr           FINALE FIFA Turnier [Bühne] (Konsolenspielestationen Schluss) \n20.15 Uhr           Siegerehrung FIFA Turnier [Bühne] \nBeginn: 17 Uhr –  Eintritt: € 5 \nFoto: Veranstalter
URL:https://www.schwarzataler-online.at/event/triebcon-2019-triebwerk-wiener-neustadt/
LOCATION:Triebwerk Wiener Neustadt\, Neunkirchnerstrasse 65b/2\, Wiener Neustadt\, 2700\, Österreich
CATEGORIES:Events,Multimedia,Sport
ATTACH;FMTTYPE=image/jpeg:https://www.schwarzataler-online.at/wp-content/uploads/2019/04/triebcon.jpg
END:VEVENT
BEGIN:VEVENT
DTSTART;TZID=Europe/Vienna:20190427T193000
DTEND;TZID=Europe/Vienna:20190427T193000
DTSTAMP:20260425T174440
CREATED:20190424T183909Z
LAST-MODIFIED:20190424T183909Z
UID:84355-1556393400-1556393400@www.schwarzataler-online.at
SUMMARY:Operettenzaubereien | Stadthalle | Ternitz
DESCRIPTION:Heitere\, schwungvolle Melodien\, romantische Schauplätze wie das Weiße Rössl am Wolfgangsee\, ausgelassene Wiener Ballsäle\, der Wiener Heurige und die Puszta – Peter Fridecky und sein Solistenorchester spannen am 27. April in der Stadhalle Ternitz einen musikalischen Bogen um Liebe und Leidenschaft\, in virtuose Klänge gefasst durch die bekanntesten Operettenkomponisten der Goldenen Operettenära. Beginn: 19.30 Uhr. \n \nMit seinen Operettenzaubereien präsentieren Peter Fridecky und sein Solistenorchester einen Querschnitt beliebter Operetten\, einen bunten Blumenstrauß vertrauter Orchesterstücke und unvergessener Duette\, die ins „(Wiener) Blut“ gehen. \n \nEintritt: € 28 / € 24 / € 20. AKNÖ-Mitglieder erhalten gegen Vorlage ihrer AK-Service-Karte 15% auf eine Eintrittskarte bei der Stadtgemeinde Ternitz  \nKarten: Stadtgemeinde Ternitz\, Raiffeisenbanken und Ö-Ticket \nFoto: Judith Eiveck
URL:https://www.schwarzataler-online.at/event/operettenzaubereien-stadthalle-ternitz/
LOCATION:Stadthalle Ternitz\, Theodor-Körner-Platz 2\, Ternitz\, 2630\, Österreich
CATEGORIES:Bühne,Events,Konzert
ATTACH;FMTTYPE=image/jpeg:https://www.schwarzataler-online.at/wp-content/uploads/2019/04/operettenzauber_judith_eiveck_10z15.jpg
END:VEVENT
END:VCALENDAR